Workbook

Sheet Sheet1
A1: Contract | B1: PT
A2: 0.1 | B2: =VLOOKUP(A2,Data!A:E,2,0) -> #N/A
A3: 0.2 | B3: =VLOOKUP(A3,Data!A:E,2,0) -> #N/A
A4: 0.3 | B4: =VLOOKUP(A4,Data!A:E,2,0) -> #N/A
A5: 0.4 | B5: =VLOOKUP(A5,Data!A:E,2,0) -> #N/A
A6: 0.5 | B6: =VLOOKUP(A6,Data!A:E,2,0) -> #N/A
A7: 0.6 | B7: =VLOOKUP(A7,Data!A:E,2,0) -> #N/A
A8: 0.7 | B8: =VLOOKUP(A8,Data!A:E,2,0) -> 66
A9: 0.8 | B9: =VLOOKUP(A9,Data!A:E,2,0) -> 55
A10: 0.9 | B10: =VLOOKUP(A10,Data!A:E,2,0) -> #N/A
A11: 1 | B11: =VLOOKUP(A11,Data!A:E,2,0) -> #N/A
A12: 1.1 | B12: =VLOOKUP(A12,Data!A:E,2,0) -> #N/A
A13: 1.2 | B13: =VLOOKUP(A13,Data!A:E,2,0) -> 127
... A1001: 100 | B1001: =VLOOKUP(A1001,Data!A:E,2,0) -> #N/A

Sheet Data
A1: Count of DRS CODE | B1: Column Labels
A2: Row Labels | B2: pt | C2: ft | D2: s | E2: Grand Total
A3: 0 | B3: 3957 | C3: 23 | D3: 27 | E3: 4007
A4: 0.7 | B4: 66 | C4: 5 | E4: 71
A5: 0.8 | B5: 55 | C5: 3 | D5: 1 | E5: 59
A6: 1 | B6: 267 | C6: 25 | D6: 1 | E6: 293
A7: 1.2 | B7: 127 | C7: 14 | D7: 2 | E7: 143
A8: 1.4 | B8: 19 | E8: 19
A9: 1.5 | B9: 3 | E9: 3
A10: 1.6 | B10: 11 | E10: 11
A11: 1.7 | B11: 34 | C11: 4 | E11: 38
A12: 1.8 | B12: 23 | C12: 6 | E12: 29
A13: 1.9 | B13: 10 | C13: 2 | E13: 12
A14: 2 | B14: 95 | C14: 22 | D14: 5 | E14: 122
A15: 2.1 | B15: 6 | C15: 2 | E15: 8
A16: 2.2 | B16: 83 | C16: 7 | D16: 1 | E16: 91
A17: 2.4 | B17: 39 | C17: 8 | D17: 1 | E17: 48
A18: 2.5 | B18: 3 | C18: 1 | E18: 4
A19: 2.6 | B19: 13 | C19: 2 | D19: 1 | E19: 16
A20: 2.7 | B20: 18 | D20: 4 | E20: 22
A21: 2.8 | B21: 25 | C21: 8 | D21: 1 | E21: 34
A22: 2.9 | B22: 6 | C22: 3 | E22: 9
A23: 3 | B23: 49 | C23: 13 | D23: 3 | E23: 65
A24: 3.1 | B24: 2 | C24: 1 | E24: 3
A25: 3.2 | B25: 30 | C25: 16 | D25: 4 | E25: 50
A26: 3.3 | D26: 2 | E26: 2
A27: 3.4 | B27: 26 | C27: 11 | D27: 3 | E27: 40
A28: 3.5 | B28: 1 | C28: 1 | E28: 2
A29: 3.6 | B29: 15 | C29: 3 | D29: 4 | E29: 22
A30: 3.7 | B30: 13 | C30: 4 | D30: 2 | E30: 19
A31: 3.8 | B31: 4 | C31: 4 | D31: 2 | E31: 10
A32: 3.9 | B32: 3 | C32: 3 | E32: 6
A33: 4 | B33: 18 | C33: 5 | D33: 2 | E33: 25
A34: 4.1 | B34: 3 | C34: 2 | D34: 1 | E34: 6
A35: 4.2 | B35: 23 | C35: 5 | D35: 5 | E35: 33
A36: 4.3 | C36: 2 | E36: 2
A37: 4.4 | B37: 25 | C37: 6 | D37: 2 | E37: 33
A38: 4.5 | C38: 2 | E38: 2
A39: 4.6 | B39: 5 | C39: 3 | E39: 8
A40: 4.7 | B40: 3 | C40: 6 | E40: 9
A41: 4.8 | B41: 7 | C41: 5 | D41: 2 | E41: 14
A42: 4.9 | B42: 2 | C42: 1 | D42: 1 | E42: 4
A43: 5 | B43: 15 | C43: 13 | D43: 3 | E43: 31
A44: 5.1 | B44: 2 | C44: 3 | D44: 2 | E44: 7
A45: 5.2 | B45: 11 | C45: 7 | D45: 3 | E45: 21
A46: 5.3 | B46: 1 | C46: 1 | D46: 1 | E46: 3
A47: 5.4 | B47: 13 | C47: 8 | D47: 6 | E47: 27
A48: 5.5 | B48: 1 | E48: 1
A49: 5.6 | B49: 8 | C49: 6 | D49: 5 | E49: 19
A50: 5.7 | B50: 3 | C50: 6 | D50: 5 | E50: 14
A51: 5.8 | B51: 14 | C51: 8 | D51: 4 | E51: 26
A52: 5.9 | B52: 1 | C52: 2 | D52: 2 | E52: 5
A53: 6 | B53: 10 | C53: 12 | D53: 7 | E53: 29
A54: 6.1 | B54: 5 | C54: 1 | E54: 6
A55: 6.2 | B55: 10 | C55: 4 | D55: 4 | E55: 18
A56: 6.3 | B56: 2 | C56: 1 | E56: 3
A57: 6.4 | B57: 5 | C57: 7 | D57: 6 | E57: 18
A58: 6.5 | B58: 1 | C58: 1 | D58: 1 | E58: 3
A59: 6.6 | B59: 11 | C59: 6 | D59: 3 | E59: 20
A60: 6.7 | B60: 1 | C60: 1 | D60: 2 | E60: 4
A61: 6.8 | B61: 6 | C61: 11 | D61: 3 | E61: 20
A62: 6.9 | B62: 1 | C62: 3 | D62: 3 | E62: 7
A63: 7 | B63: 3 | C63: 6 | D63: 3 | E63: 12
A64: 7.1 | D64: 1 | E64: 1
A65: 7.2 | B65: 7 | C65: 7 | D65: 3 | E65: 17
A66: 7.3 | B66: 2 | D66: 2 | E66: 4
A67: 7.4 | B67: 5 | C67: 6 | D67: 4 | E67: 15
A68: 7.5 | B68: 3 | C68: 2 | D68: 1 | E68: 6
A69: 7.6 | B69: 5 | C69: 2 | D69: 2 | E69: 9
A70: 7.7 | B70: 1 | C70: 5 | E70: 6
A71: 7.8 | B71: 2 | C71: 6 | D71: 1 | E71: 9
A72: 7.9 | D72: 3 | E72: 3
A73: 8 | B73: 3 | C73: 9 | D73: 2 | E73: 14
A74: 8.1 | B74: 2 | C74: 1 | D74: 3 | E74: 6
A75: 8.2 | B75: 8 | C75: 6 | D75: 1 | E75: 15
A76: 8.3 | B76: 1 | C76: 2 | D76: 1 | E76: 4
A77: 8.4 | B77: 7 | C77: 4 | D77: 4 | E77: 15
A78: 8.5 | B78: 2 | C78: 1 | D78: 1 | E78: 4
A79: 8.6 | B79: 1 | C79: 3 | D79: 4 | E79: 8
A80: 8.7 | B80: 2 | D80: 2 | E80: 4
A81: 8.8 | B81: 3 | C81: 7 | D81: 4 | E81: 14
A82: 8.9 | D82: 4 | E82: 4
A83: 9 | B83: 2 | C83: 3 | D83: 1 | E83: 6
A84: 9.1 | C84: 1 | D84: 2 | E84: 3
A85: 9.2 | B85: 2 | C85: 5 | D85: 3 | E85: 10
A86: 9.4 | B86: 2 | C86: 4 | D86: 3 | E86: 9
A87: 9.5 | C87: 1 | D87: 1 | E87: 2
A88: 9.6 | B88: 1 | C88: 4 | D88: 5 | E88: 10
A89: 9.7 | C89: 3 | D89: 1 | E89: 4
A90: 9.8 | B90: 3 | C90: 7 | D90: 2 | E90: 12
A91: 9.9 | C91: 2 | D91: 1 | E91: 3
A92: 10 | B92: 1 | C92: 3 | D92: 4 | E92: 8
A93: 10.1 | B93: 1 | C93: 1 | D93: 1 | E93: 3
A94: 10.2 | B94: 1 | C94: 2 | D94: 7 | E94: 10
A95: 10.3 | D95: 2 | E95: 2
A96: 10.4 | C96: 4 | D96: 4 | E96: 8
A97: 10.5 | C97: 1 | E97: 1
A98: 10.6 | B98: 4 | C98: 2 | D98: 4 | E98: 10
A99: 10.8 | C99: 1 | D99: 4 | E99: 5
A100: 10.9 | C100: 1 | E100: 1
...
