Workbook

Sheet Sheet1
A1: Contract | B1: PT
A2: 0.1 | B2: =VLOOKUP(A2,Data!A:E,2,0) -> #N/A
A3: 0.2 | B3: =VLOOKUP(A3,Data!A:E,2,0) -> #N/A
A4: 0.3 | B4: =VLOOKUP(A4,Data!A:E,2,0) -> #N/A
A5: 0.4 | B5: =VLOOKUP(A5,Data!A:E,2,0) -> #N/A
A6: 0.5 | B6: =VLOOKUP(A6,Data!A:E,2,0) -> #N/A
A7: 0.6 | B7: =VLOOKUP(A7,Data!A:E,2,0) -> #N/A
A8: 0.7 | B8: =VLOOKUP(A8,Data!A:E,2,0) -> 66
A9: 0.8 | B9: =VLOOKUP(A9,Data!A:E,2,0) -> 55
A10: 0.9 | B10: =VLOOKUP(A10,Data!A:E,2,0) -> #N/A
A11: 1 | B11: =VLOOKUP(A11,Data!A:E,2,0) -> #N/A
A12: 1.1 | B12: =VLOOKUP(A12,Data!A:E,2,0) -> #N/A
A13: 1.2 | B13: =VLOOKUP(A13,Data!A:E,2,0) -> 127
... A1001: 100 | B1001: =VLOOKUP(A1001,Data!A:E,2,0) -> #N/A

Sheet Data
A1: Count of DRS CODE | B1: Column Labels
A2: Row Labels | B2: pt | C2: ft | D2: s | E2: Grand Total
A3: 0 | B3: 3957 | C3: 23 | D3: 27 | E3: 4007
A4: 0.7 | B4: 66 | C4: 5 | E4: 71
A5: 0.8 | B5: 55 | C5: 3 | D5: 1 | E5: 59
A6: 1 | B6: 267 | C6: 25 | D6: 1 | E6: 293
A7: 1.2 | B7: 127 | C7: 14 | D7: 2 | E7: 143
A8: 1.4 | B8: 19 | E8: 19
A9: 1.5 | B9: 3 | E9: 3
A10: 1.6 | B10: 11 | E10: 11
A11: 1.7 | B11: 34 | C11: 4 | E11: 38
A12: 1.8 | B12: 23 | C12: 6 | E12: 29
A13: 1.9 | B13: 10 | C13: 2 | E13: 12
A14: 2 | B14: 95 | C14: 22 | D14: 5 | E14: 122
A15: 2.1 | B15: 6 | C15: 2 | E15: 8
A16: 2.2 | B16: 83 | C16: 7 | D16: 1 | E16: 91
A17: 2.4 | B17: 39 | C17: 8 | D17: 1 | E17: 48
A18: 2.5 | B18: 3 | C18: 1 | E18: 4
A19: 2.6 | B19: 13 | C19: 2 | D19: 1 | E19: 16
A20: 2.7 | B20: 18 | D20: 4 | E20: 22
A21: 2.8 | B21: 25 | C21: 8 | D21: 1 | E21: 34
A22: 2.9 | B22: 6 | C22: 3 | E22: 9
A23: 3 | B23: 49 | C23: 13 | D23: 3 | E23: 65
A24: 3.1 | B24: 2 | C24: 1 | E24: 3
A25: 3.2 | B25: 30 | C25: 16 | D25: 4 | E25: 50
A26: 3.3 | D26: 2 | E26: 2
A27: 3.4 | B27: 26 | C27: 11 | D27: 3 | E27: 40
A28: 3.5 | B28: 1 | C28: 1 | E28: 2
A29: 3.6 | B29: 15 | C29: 3 | D29: 4 | E29: 22
A30: 3.7 | B30: 13 | C30: 4 | D30: 2 | E30: 19
A31: 3.8 | B31: 4 | C31: 4 | D31: 2 | E31: 10
A32: 3.9 | B32: 3 | C32: 3 | E32: 6
A33: 4 | B33: 18 | C33: 5 | D33: 2 | E33: 25
A34: 4.1 | B34: 3 | C34: 2 | D34: 1 | E34: 6
A35: 4.2 | B35: 23 | C35: 5 | D35: 5 | E35: 33
A36: 4.3 | C36: 2 | E36: 2
A37: 4.4 | B37: 25 | C37: 6 | D37: 2 | E37: 33
A38: 4.5 | C38: 2 | E38: 2
A39: 4.6 | B39: 5 | C39: 3 | E39: 8
A40: 4.7 | B40: 3 | C40: 6 | E40: 9
...
