Workbook

Sheet Tân Thành xnt 01
A1: STT | B1: mahh | C1: mahh1 | D1: tenhh | E1: dvt | F1: Mã Kho xuất | G1: Số đăng ký | H1: dongia | I1: soluong|1|2|Số lượng|Tồn đầu kỳ | J1: thanhtien1|1|1|Thành tiền | K1: soluong|1|2|Số lượng|Nhập trong kỳ | L1: thanhtien3|1|1|Thành tiền | M1: soluong|1|2|Số lượng|Xuất trong kỳ | N1: thanhtien6|1|1|Thành tiền | O1: soluong|1|2|Số lượng|Tồn cuối kỳ | P1: thanhtien7|1|1|Thành tiền | Q1: ngayxuat
A2: 1 | B2: T14101 | C2: CP1169G206 | D2: Bavegan Cao khô Lá Actiso (tương đương 10g Lá tươi Actiso) 80mg; Cao khô hạt bìm bìm biếc (tương đương 75mg hạt bìm bìm biếc): 5,3mg; Cao khô rau đắng đất (tương đương với 750mg rau đắng đất): 75mg | E2: viên | F2: 47 | G2: VD-22425-15 | H2: 399 | I2: 220 | J2: 87780 | M2: 200 | N2: 79800 | O2: 20 | P2: 7980 | Q2: 44210.587
A3: 2 | B3: T181720 | C3: TT1917G3344 | D3: A.T Zinc 10mg Kẽm | E3: Viên | F3: 47 | G3: VD-24740-16 | H3: 202 | I3: 310 | J3: 62620 | M3: 60 | N3: 12120 | O3: 250 | P3: 50500 | Q3: 44225.653
A4: 3 | B4: T181802 | C4: TT1917G3493 | D4: Acyclovir Stada 800mg 800mg | E4: Viên | F4: 47 | G4: VD-23346-15 | H4: 4000 | I4: 140 | J4: 560000 | O4: 140 | P4: 560000
A5: 4 | B5: T181687 | C5: TT1917G3277 | D5: Alcool 70° 70°, 60ml | E5: Chai | F5: 47 | G5: VD-31793-19 | H5: 2310 | I5: 43.4 | J5: 100254 | M5: 0.2 | N5: 462 | O5: 43.2 | P5: 99792 | Q5: 44200.449
A6: 5 | B6: T181653 | C6: TT1917G3221 | D6: Alverin 40mg | E6: Viên | F6: 47 | G6: VD-29221-18 | H6: 94.5 | I6: 10 | J6: 945 | M6: 10 | N6: 945 | O6: 0 | P6: 0 | Q6: 44200.672
A7: 6 | B7: T18951 | C7: TT1186G1026 | D7: Ambroxon 30mg 30mg | E7: Viên | F7: 47 | G7: VD-27370-17 | H7: 229.95 | I7: 1230 | J7: 282838.5 | M7: 25 | N7: 5748.75 | O7: 1205 | P7: 277089.75 | Q7: 44211.65
A8: 7 | B8: T181477 | C8: TT1801G110 | D8: AMLODAC 5 5mg | E8: Viên | F8: 47 | G8: VN-22060-19 | H8: 213 | I8: 9047 | J8: 1927011 | M8: 2550 | N8: 543150 | O8: 6497 | P8: 1383861 | Q8: 44225.653
A9: 8 | B9: T181655 | C9: TT1917G3226 | D9: Amoxicilin 250mg 250mg | E9: Gói | F9: 47 | G9: VD-18249-13 | H9: 525 | I9: 197 | J9: 103425 | M9: 60 | N9: 31500 | O9: 137 | P9: 71925 | Q9: 44218.665
A10: 9 | B10: T181280 | C10: TT410G809 | D10: Amoxiclin 250mg 250mg | E10: Viên | F10: 47 | G10: VD-20471-14 | H10: 409.5 | I10: 980 | J10: 401310 | M10: 30 | N10: 12285 | O10: 950 | P10: 389025 | Q10: 44223.662
A11: 10 | B11: T181445 | C11: TT1464G10040 | D11: Aspirin pH8 500mg | E11: Viên | F11: 47 | G11: VD-15513-11 | H11: 378 | I11: 70 | J11: 26460 | M11: 20 | N11: 7560 | O11: 50 | P11: 18900 | Q11: 44222.662
A12: 11 | B12: T181294 | C12: TT11G403 | D12: Augbidil 1g 875mg+125mg | E12: Viên | F12: 47 | G12: VD-27254-17 | H12: 2331 | I12: 1548 | J12: 3608388 | M12: 230 | N12: 536130 | O12: 1318 | P12: 3072258 | Q12: 44224.651
A13: 12 | B13: T181292 | C13: TT11G401 | D13: Augbidil 250mg/31,25mg 250mg+31,25mg | E13: Gói | F13: 47 | G13: VD-26363-17 | H13: 1189 | I13: 1420 | J13: 1688380 | M13: 45 | N13: 53505 | O13: 1375 | P13: 1634875 | Q13: 44210.587
A14: 13 | B14: T181486 | C14: TT1801G119 | D14: AUGXICINE 500mg/ 62,5mg 500mg +62,5mg | E14: Gói | F14: 47 | G14: VD-30557-18 | H14: 1890 | I14: 84 | J14: 158760 | M14: 84 | N14: 158760 | O14: 0 | P14: 0 | Q14: 44222.662
A15: 14 | B15: T181369 | C15: TT466G5072 | D15: Biceflexin powder 250mg | E15: gói | F15: 47 | G15: VD-18250-13 | H15: 750 | I15: 4 | J15: 3000 | O15: 4 | P15: 3000
A16: 15 | B16: T181793 | C16: TT1917G3466 | D16: Biracin-E 0,3%, 5ml | E16: Lọ 5ml | F16: 47 | G16: VD-23135-15 | H16: 2940 | I16: 8 | J16: 23520 | K16: 20 | L16: 58800 | O16: 28 | P16: 82320
A17: 16 | B17: T181519 | C17: TT1801G152 | D17: Biragan 650 650mg | E17: Viên | F17: 47 | G17: VD-24393-16 | H17: 168 | I17: 1825 | J17: 306600 | M17: 195 | N17: 32760 | O17: 1630 | P17: 273840 | Q17: 44224.651
A18: 17 | B18: T181098 | C18: TT1186G1175 | D18: Biragan Kids 325 325mg | E18: Gói | F18: 47 | G18: VD-24935-16 | H18: 1890 | I18: 4 | J18: 7560 | O18: 4 | P18: 7560
A19: 18 | B19: T181663 | C19: TT1917G3240 | D19: BisacodylDHG 5mg | E19: Viên | F19: 47 | G19: VD-21129-14(4188/QLD-ĐK) | H19: 249.9 | I19: 190 | J19: 47481 | M19: 25 | N19: 6247.5 | O19: 165 | P19: 41233.5 | Q19: 44201.671
A20: 19 | B20: T181256 | C20: TT1796G4052 | D20: Bixicam 7,5mg | E20: Viên | F20: 47 | G20: VD-21238-14 | H20: 231 | I20: 5 | J20: 1155 | O20: 5 | P20: 1155
A21: 20 | B21: T181437 | C21: TT1464G10029 | D21: Bromhexin 8mg | E21: Viên | F21: 47 | G21: VD-31731-19 | H21: 42 | I21: 525 | J21: 22050 | M21: 282 | N21: 11844 | O21: 243 | P21: 10206 | Q21: 44225.653
A22: 21 | B22: T181383 | C22: TT466G5086 | D22: Buto-Asma 100mcg/ liều, 200 liều/ lọ | E22: Lọ | F22: 47 | G22: VN-16442-13 | H22: 51999.15 | I22: 1 | J22: 51999.15 | M22: 1 | N22: 51999.15 | O22: 0 | P22: 0 | Q22: 44201.574
A23: 22 | B23: T14136 | C23: CP1169G242 | D23: Cao ích mẫu Mỗi 90ml chứa: Ích mẫu 72g; Hương phụ 22,5g; Ngải cứu 18g | E23: Chai 180ml | F23: 47 | G23: VD-22491-15 | H23: 33600 | I23: 15 | J23: 504000 | M23: 1 | N23: 33600 | O23: 14 | P23: 470400 | Q23: 44216.634
A24: 23 | B24: T181480 | C24: TT1801G113 | D24: Captopril Stada 25mg 25mg | E24: Viên | F24: 47 | G24: VD-27519-17 | H24: 490 | I24: 419 | J24: 205310 | M24: 185 | N24: 90650 | O24: 234 | P24: 114660 | Q24: 44224.65
A25: 24 | B25: T181673 | C25: TT1917G3258 | D25: Cefaclor 250mg 250mg | E25: Gói | F25: 47 | G25: VD-26895-17 | H25: 1965 | I25: 995 | J25: 1955175 | M25: 90 | N25: 176850 | O25: 905 | P25: 1778325 | Q25: 44218.631
A26: 25 | B26: T181518 | C26: TT1801G151 | D26: Cenpadol 250 mg 250mg | E26: Gói | F26: 47 | G26: VD-19703-13 | H26: 649.95 | I26: 4946 | J26: 3214652.7 | M26: 100 | N26: 64995 | O26: 4846 | P26: 3149657.7 | Q26: 44225.653
A27: 26 | B27: T181602 | C27: TT1917G3145 | D27: Cephalexin PMP 500 500mg | E27: Viên | F27: 47 | G27: VD-24430-16 | H27: 1470 | I27: 35 | J27: 51450 | M27: 35 | N27: 51450 | O27: 0 | P27: 0 | Q27: 44214.659
A28: 27 | B28: T181632 | C28: TT1917G3188 | D28: Cetampir 800 800mg | E28: Viên | F28: 47 | G28: VD-25260-16 | H28: 1083 | I28: 1275 | J28: 1380825 | M28: 190 | N28: 205770 | O28: 1085 | P28: 1175055 | Q28: 44225.653
A29: 28 | B29: T181516 | C29: TT1801G149 | D29: Cetecoleceti 20mg 20mg | E29: Viên | F29: 47 | G29: VD-32668-19 | H29: 174.3 | I29: 6680 | J29: 1164324 | M29: 470 | N29: 81921 | O29: 6210 | P29: 1082403 | Q29: 44225.653
A30: 29 | B30: T181483 | C30: TT1801G116 | D30: Clanoz 10mg | E30: Viên | F30: 47 | G30: VD-20550-14 (CV SỐ 3203/QLD-ĐK) | H30: 459.9 | I30: 1362 | J30: 626383.8 | M30: 35 | N30: 16096.5 | O30: 1327 | P30: 610287.3 | Q30: 44225.653
A31: 30 | B31: T181681 | C31: TT1917G3266 | D31: Clorpheniramin 4 4mg | E31: Viên | F31: 47 | G31: VD-21132-14(GH 4188/QLD-ĐK) | H31: 33.6 | I31: 2959 | J31: 99422.4 | M31: 806 | N31: 27081.6 | O31: 2153 | P31: 72340.8 | Q31: 44225.653
A32: 31 | B32: T181686 | C32: TT1917G3275 | D32: Colchicin 1mg | E32: Viên | F32: 47 | G32: VD-22172-15 | H32: 349.65 | I32: 990 | J32: 346153.5 | O32: 990 | P32: 346153.5
A33: 32 | B33: T18973 | C33: TT1186G1048 | D33: Colchicine Galien 1mg | E33: Viên | F33: 47 | G33: VD-22784-15 | H33: 249.9 | I33: 35 | J33: 8746.5 | O33: 35 | P33: 8746.5
A34: 33 | B34: T181688 | C34: TT1917G3278 | D34: CỒN BORIC 3% 3%, 10ml | E34: Lọ | F34: 47 | G34: VD-23481-15 | H34: 6300 | I34: 7 | J34: 44100 | O34: 7 | P34: 44100
A35: 34 | B35: T14199 | C35: CP1887G457 | D35: Cồn xoa bóp Địa liền 4,5g; Riềng 4,5g; Thiên niên kiện 2,7g; Huyết giác 2,7g; Đại hồi 1,8g; Quế chi 1,8g; Ô đầu 0,9g; Camphora 0,9g. | E35: Chai | F35: 47 | G35: VD-12885-10 ( GH 11439/QLD-ĐK TỪ 19/6/2018) | H35: 22999.2 | I35: 68 | J35: 1563945.6 | M35: 9 | N35: 206992.8 | O35: 59 | P35: 1356952.8 | Q35: 44222.662
A36: 35 | B36: T181472 | C36: TT1801G105 | D36: Cyclindox 100mg 100mg | E36: Viên | F36: 47 | G36: VN-20558-17 | H36: 1499.4 | I36: 180 | J36: 269892 | O36: 180 | P36: 269892
A37: 36 | B37: T14146 | C37: CP1887G402 | D37: Cynaphytol Cao khô actiso (tương đương với 4g lá tươi actiso) 0,16g | E37: Viên | F37: 47 | G37: VD-24104-16 | H37: 479.85 | I37: 4165 | J37: 1998575.2 | M37: 280 | N37: 134358 | O37: 3885 | P37: 1864217.2 | Q37: 44222.662
A38: 37 | B38: T14198 | C38: CP1887G456 | D38: Dầu nóng mặt trời Mỗi 60ml chứa: Methyl salycilat 18,63g; Camphor 6,30g; Tinh dầu quế 0,33g; Tinh dầu bạc hà 7,44g; Gừng 1,89g | E38: Chai | F38: 47 | G38: VD-30948-18 | H38: 27799.8 | I38: 27 | J38: 750594.6 | M38: 3 | N38: 83399.4 | O38: 24 | P38: 667195.2 | Q38: 44218.631
A39: 38 | B39: T181814 | C39: TT1917G3511 | D39: Diaprid 2 2mg | E39: Viên | F39: 47 | G39: VD-24959-16 | H39: 1660 | I39: 2700 | J39: 4482000 | O39: 2700 | P39: 4482000
A40: 39 | B40: T181695 | C40: TT1917G3291 | D40: DICLOFENAC 75 75mg | E40: Viên | F40: 47 | G40: VD-21923-14 | H40: 140 | I40: 40 | J40: 5600 | M40: 40 | N40: 5600 | O40: 0 | P40: 0 | Q40: 44215.44
A41: 40 | B41: T181699 | C41: TT1917G3298 | D41: Diosmectit 3g 3g | E41: Gói | F41: 47 | G41: VD-19266-13 ( GH 11427/QLD-ĐK) | H41: 1149.75 | I41: 404 | J41: 464499 | M41: 100 | N41: 114975 | O41: 304 | P41: 349524 | Q41: 44218.632
A42: 41 | B42: T181606 | C42: TT1917G3150 | D42: Diosmin 500 450mg+ 50mg | E42: Viên | F42: 47 | G42: VD-22349-15 | H42: 1020 | I42: 1145 | J42: 1167900 | M42: 170 | N42: 173400 | O42: 975 | P42: 994500 | Q42: 44218.631
A43: 42 | B43: T181138 | C43: TT1186G1215 | D43: Domitazol 250mg+ 20mg+ 25mg | E43: Viên | F43: 47 | G43: VD-22627-15 | H43: 1176 | I43: 105 | J43: 123480 | M43: 20 | N43: 23520 | O43: 85 | P43: 99960 | Q43: 44218.631
A44: 43 | B44: T181533 | C44: TT1801G166 | D44: Dopagan 500mg 500mg | E44: Viên | F44: 47 | G44: VD-26461-17 | H44: 245 | I44: 5440 | J44: 1332800 | M44: 1125 | N44: 275625 | O44: 4315 | P44: 1057175 | Q44: 44225.653
A45: 44 | B45: T14160 | C45: CP1887G416 | D45: Dưỡng cốt hòan Cao xương hỗn hợp 750mg; Hoàng bá 2400mg; Tri mẫu 300mg; Trần bì 600mg; Bạch thược 600mg; Can khương 150mg; Thục địa 600mg | E45: Gói | F45: 47 | G45: VD-17817-12(GH 23593/QLD-ĐK NGÀY 25/12/18) | H45: 3499.65 | I45: 1370 | J45: 4794520.5 | M45: 380 | N45: 1329867 | O45: 990 | P45: 3464653.5 | Q45: 44225.653
A46: 45 | B46: T181615 | C46: TT1917G3164 | D46: Fluzinstad 5 5mg | E46: Viên | F46: 47 | G46: VD-25479-16 | H46: 1000 | I46: 625 | J46: 625000 | M46: 40 | N46: 40000 | O46: 585 | P46: 585000 | Q46: 44225.653
A47: 46 | B47: T181735 | C47: TT1917G3364 | D47: Glucofine 500 mg 500mg | E47: Viên | F47: 47 | G47: VD-32279-19 | H47: 259.35 | I47: 10 | J47: 2593.5 | O47: 10 | P47: 2593.5
A48: 47 | B48: T181253 | C48: TT1796G4049 | D48: Glucose 5% 5%/500ml | E48: Chai/Lọ/Ống | F48: 47 | G48: VD-28252-17 | H48: 9450 | I48: 4 | J48: 37800 | O48: 4 | P48: 37800
A49: 48 | B49: T181164 | C49: TT1796G4034 | D49: Hapacol 80 80 mg | E49: Gói | F49: 47 | G49: VD-20561-14 | H49: 999.6 | I49: 1 | J49: 999.6 | M49: 1 | N49: 999.6 | O49: 0 | P49: 0 | Q49: 44224.663
A50: 49 | B50: T181517 | C50: TT1801G150 | D50: Hapacol 80 80mg | E50: Gói | F50: 47 | G50: VD-20561-14 (GH 3202/QLD-ĐK) | H50: 724.5 | I50: 425 | J50: 307912.5 | M50: 34 | N50: 24633 | O50: 391 | P50: 283279.5 | Q50: 44224.663
A51: 50 | B51: T181819 | C51: TT1917G3517 | D51: Hasanbest 500/2.5 500mg+ 2,5mg | E51: Viên | F51: 47 | G51: VD-32391-19 | H51: 1995 | I51: 1128 | J51: 2250360 | M51: 1128 | N51: 2250360 | O51: 0 | P51: 0 | Q51: 44215.668
A52: 51 | B52: T14187 | C52: CP1887G445 | D52: Hoàn bát vị bổ thận dương Cao đặc qui về khan (tương ứng với: Thục địa 73,5mg; Hoài sơn 66mg; Sơn thù 60,5mg; Trạch tả 44,75mg; Phụ tử chế 15,12mg) 40,5mg. Bột kép (Thục địa 5,25mg; Hoài sơn 6mg; Sơn thù 5,5mg; Mẫu đơn bì 48,75mg; Trạch tả 4mg; Phục Linh 48,75mg; Quế nhục 16,5mg; Phụ tử chế 1,38mg) 136,13mg | E52: Viên | F52: 47 | G52: VD-19914-13 (CV 20850/QLD-ĐK, GIA HẠN ĐẾN 02/11/2019) | H52: 174.3 | I52: 3360 | J52: 585648 | M52: 480 | N52: 83664 | O52: 2880 | P52: 501984 | Q52: 44225.674
A53: 52 | B53: T14180 | C53: CP1887G437 | D53: HOASTEX Mỗi chai 90ml chứa dịch chiết từ: Húng chanh 45g; Núc nác 11,25g; Cineol 83,7mg | E53: Chai | F53: 47 | G53: VD-25220-16 | H53: 32999.4 | I53: 162 | J53: 5345902.8 | M53: 1 | N53: 32999.4 | O53: 161 | P53: 5312903.4 | Q53: 44210.586
A54: 53 | B54: T14177 | C54: CP1887G434 | D54: Hoạt huyết dưỡng não Cao Bạch quả 20mg, Cao Đinh lăng 150mg | E54: Viên | F54: 47 | G54: V1610-H12-10 | H54: 158 | I54: 9760 | J54: 1542080 | M54: 1520 | N54: 240160 | O54: 8240 | P54: 1301920 | Q54: 44225.674
A55: 54 | B55: T181783 | C55: TT1917G3443 | D55: Humared 200mg + 1,5mg | E55: Viên | F55: 47 | G55: VD-22180-15 | H55: 480 | I55: 329 | J55: 157920 | M55: 30 | N55: 14400 | O55: 299 | P55: 143520 | Q55: 44225.653
A56: 55 | B56: T181674 | C56: TT1917G3259 | D56: Kefcin 500 Caps 500mg | E56: Viên | F56: 47 | G56: VD-25502-16 | H56: 3139.5 | I56: 978 | J56: 3070431 | M56: 610 | N56: 1915095 | O56: 368 | P56: 1155336 | Q56: 44225.653
A57: 56 | B57: T14157 | C57: CP1887G413 | D57: Kim tiền thảo Cao kim tiền thảo 150mg | E57: Viên | F57: 47 | G57: V485-H12-10 ( CÔNG VĂN GIA HẠN SỐ 21632 NGÀY 16/11/2018 ) | H57: 175 | I57: 2300 | J57: 402500 | O57: 2300 | P57: 402500
A58: 57 | B58: T181504 | C58: TT1801G137 | D58: Lidocain BFS 2%/2ml | E58: Ống | F58: 47 | G58: VD-22027-14 | H58: 399 | I58: 77 | J58: 30723 | M58: 1 | N58: 399 | O58: 76 | P58: 30324 | Q58: 44200.449
A59: 58 | B59: T181593 | C59: TT1917G3134 | D59: Lipistad 10 10mg | E59: Viên | F59: 47 | G59: VD-23970-15 | H59: 540 | I59: 1562 | J59: 843480 | M59: 270 | N59: 145800 | O59: 1292 | P59: 697680 | Q59: 44215.668
A60: 59 | B60: T181222 | C60: TT1796G4016 | D60: Loperamid 2mg | E60: Viên | F60: 47 | G60: VD-30408-18 | H60: 199.5 | I60: 530 | J60: 105735 | O60: 530 | P60: 105735
A61: 60 | B61: T181813 | C61: TT1917G3510 | D61: Melanov-M 80mg+ 500mg | E61: Viên | F61: 47 | G61: VN-20575-17 | H61: 3800 | I61: 1940 | J61: 7372000 | M61: 360 | N61: 1368000 | O61: 1580 | P61: 6004000 | Q61: 44225.653
A62: 61 | B62: T181507 | C62: TT1801G140 | D62: Meloxicam 7,5mg | E62: Viên | F62: 47 | G62: VD-31741-19 | H62: 94.5 | I62: 2000 | J62: 189000 | O62: 2000 | P62: 189000
A63: 62 | B63: T181529 | C63: TT1801G162 | D63: Menison 4mg 4mg | E63: Viên | F63: 47 | G63: VD-23842-15 | H63: 920 | I63: 660 | J63: 607200 | M63: 660 | N63: 607200 | O63: 0 | P63: 0 | Q63: 44216.634
A64: 63 | B64: T181734 | C64: TT1917G3363 | D64: MEPHENESIN 500 500mg | E64: Viên | F64: 47 | G64: VD-17074-12 | H64: 303 | I64: 135 | J64: 40905 | M64: 130 | N64: 39390 | O64: 5 | P64: 1515 | Q64: 44214.637
A65: 64 | B65: T181512 | C65: TT1801G145 | D65: Metronidazol 250mg | E65: Viên | F65: 47 | G65: VD-28146-17 | H65: 126 | I65: 930 | J65: 117180 | M65: 100 | N65: 12600 | O65: 830 | P65: 104580 | Q65: 44222.662
A66: 65 | B66: T181528 | C66: TT1801G161 | D66: Mobimed 15 15mg | E66: Viên | F66: 47 | G66: VD-25392-16 | H66: 756 | I66: 305 | J66: 230580 | M66: 100 | N66: 75600 | O66: 205 | P66: 154980 | Q66: 44218.631
A67: 66 | B67: T181522 | C67: TT1801G155 | D67: Moxacin 500mg | E67: Viên | F67: 47 | G67: VD-14845-11 ( GH 16260/QLD-ĐK) | H67: 1449 | I67: 390 | J67: 565110 | K67: 1000 | L67: 1449000 | M67: 290 | N67: 420210 | O67: 1100 | P67: 1593900 | Q67: 44225.653
A68: 67 | B68: T181743 | C68: TT1917G3380 | D68: NATRI CLORID 0,9% 0,9%, 500ml | E68: Chai | F68: 47 | G68: VD-21954-14 (CÔNG VĂN GIA HẠN SỐ 9799/QLD-ĐK, NGÀY 20/06/2019) | H68: 9030 | I68: 21 | J68: 189630 | M68: 0.4 | N68: 3612 | O68: 20.6 | P68: 186018 | Q68: 44202.658
A69: 68 | B69: T181744 | C69: TT1917G3382 | D69: Natri clorid 0,9% 0,9%; 10ml | E69: Lọ | F69: 47 | G69: VD-22949-15 | H69: 1320 | I69: 71 | J69: 93720 | M69: 10 | N69: 13200 | O69: 61 | P69: 80520 | Q69: 44216.634
A70: 69 | B70: T181607 | C70: TT1917G3151 | D70: Naupastad 10 10mg | E70: Viên | F70: 47 | G70: VD-28558-17 | H70: 440 | I70: 600 | J70: 264000 | M70: 100 | N70: 44000 | O70: 500 | P70: 220000 | Q70: 44225.653
A71: 70 | B71: T181753 | C71: TT1917G3397 | D71: Nước oxy già 10 thể tích (3%) 6,03g/60ml | E71: Chai | F71: 47 | G71: VD-19403-13(GH 14233/QLD-ĐK) | H71: 1575 | I71: 4 | J71: 6300 | M71: 1.2 | N71: 1890 | O71: 2.8 | P71: 4410 | Q71: 44202.658
A72: 71 | B72: T181078 | C72: TT1186G1155 | D72: Oresol 3,5g +2,9g+1,5g+20g | E72: Gói | F72: 47 | G72: VD-29957-18 | H72: 1344 | I72: 3 | J72: 4032 | M72: 3 | N72: 4032 | O72: 0 | P72: 0 | Q72: 44202.658
A73: 72 | B73: T181746 | C73: TT1917G3386 | D73: Oresol 3,5g+ 2,545g+ 1,5g+20g | E73: Gói | F73: 47 | G73: VD-29957-18 | H73: 1470 | K73: 50 | L73: 73500 | O73: 50 | P73: 73500
A74: 73 | B74: T181474 | C74: TT1801G107 | D74: Oxytocin 5IU/ml | E74: Ống | F74: 47 | G74: VN-20167-16 | H74: 3350 | I74: 5 | J74: 16750 | O74: 5 | P74: 16750
A75: 74 | B75: T181434 | C75: TT1464G10026 | D75: Paclovir 0,25g/5g | E75: Tube | F75: 47 | G75: VD-31496-19 | H75: 4749.15 | I75: 7 | J75: 33244.05 | M75: 1 | N75: 4749.15 | O75: 6 | P75: 28494.9 | Q75: 44202.658
A76: 75 | B76: T181765 | C76: TT1917G3411 | D76: Paracold 150 Flu 150mg; 1mg | E76: Gói | F76: 47 | G76: VD-26380-17 | H76: 1000 | I76: 1258 | J76: 1258000 | M76: 60 | N76: 60000 | O76: 1198 | P76: 1198000 | Q76: 44218.632
A77: 76 | B77: T14112 | C77: CP1169G217 | D77: Phì nhi đại bổ 500mg, 400mg, 400mg, 300mg, 500mg, 400mg, 100mg, 1g, 1.4g | E77: Viên/5gam | F77: 47 | G77: VD-21324-14 | H77: 2399.25 | I77: 24 | J77: 57582 | M77: 24 | N77: 57582 | O77: 0 | P77: 0 | Q77: 44223.662
A78: 77 | B78: T181228 | C78: TT1796G4023 | D78: Piroxicam 20mg | E78: Viên | F78: 47 | G78: VD-15910-11 (GH 12 tháng từ ngày 29/12/2017) | H78: 197.4 | I78: 800 | J78: 157920 | M78: 30 | N78: 5922 | O78: 770 | P78: 151998 | Q78: 44222.662
A79: 78 | B79: T181520 | C79: TT1801G153 | D79: Piroxicam 20mg | E79: Viên | F79: 47 | G79: VD-31120-18 | H79: 204.75 | I79: 315 | J79: 64496.25 | M79: 10 | N79: 2047.5 | O79: 305 | P79: 62448.75 | Q79: 44207.677
A80: 79 | B80: T18945 | C80: TT1186G1020 | D80: pms-Opxil 250mg 250mg | E80: Viên | F80: 47 | G80: VD-18297-13 (GH 12 tháng từ 08/02/2018) | H80: 999.6 | I80: 280 | J80: 279888 | M80: 100 | N80: 99960 | O80: 180 | P80: 179928 | Q80: 44225.653
A81: 80 | B81: T181773 | C81: TT1917G3426 | D81: PVP Iodin 10% 10% - 20ml | E81: Chai | F81: 47 | G81: VD-23736-15 | H81: 3249.75 | I81: 62 | J81: 201484.5 | M81: 2 | N81: 6499.5 | O81: 60 | P81: 194985 | Q81: 44202.658
A82: 81 | B82: T181513 | C82: TT1801G146 | D82: Pymenife 10 10mg | E82: Viên | F82: 47 | G82: VD-13590-10 | H82: 980 | I82: 2833 | J82: 2776340 | M82: 690 | N82: 676200 | O82: 2143 | P82: 2100140 | Q82: 44225.653
A83: 82 | B83: T181482 | C83: TT1801G115 | D83: Renapril 5mg 5mg | E83: Viên | F83: 47 | G83: VN-18125-14 | H83: 397.99 | I83: 1010 | J83: 401969.9 | M83: 180 | N83: 71638.2 | O83: 830 | P83: 330331.7 | Q83: 44216.634
A84: 83 | B84: T181779 | C84: TT1917G3437 | D84: Rotundin 60 60mg | E84: Viên | F84: 47 | G84: VD-20224-13 | H84: 699.3 | I84: 260 | J84: 181818 | M84: 45 | N84: 31468.5 | O84: 215 | P84: 150349.5 | Q84: 44223.662
A85: 84 | B85: T181818 | C85: TT1917G3516 | D85: SaVi Losartan 50 50mg | E85: Viên | F85: 47 | G85: VD-29122-18 | H85: 950 | I85: 11080 | J85: 10526000 | M85: 2700 | N85: 2565000 | O85: 8380 | P85: 7961000 | Q85: 44223.662
A86: 85 | B86: T181636 | C86: TT1917G3198 | D86: SaVi Trimetazidine 20 20mg | E86: Viên | F86: 47 | G86: VD-19002-13 (CÓ CV GIA HẠN SĐK) | H86: 398 | I86: 1125 | J86: 447750 | M86: 200 | N86: 79600 | O86: 925 | P86: 368150 | Q86: 44217.662
... A88: 87 | B88: T181356 | C88: TT466G5059 | D88: Thelizin 5mg | E88: Viên | F88: 47 | G88: VD-24788-16 | H88: 119.7 | I88: 738 | J88: 88338.6 | M88: 499 | N88: 59730.3 | O88: 239 | P88: 28608.3 | Q88: 44225.653
A89: 88 | B89: T181650 | C89: TT1917G3218 | D89: Thelizin 5mg 5mg | E89: Viên | F89: 47 | G89: VD-24788-16 | H89: 99.75 | I89: 750 | J89: 74812.5 | O89: 750 | P89: 74812.5
A90: 89 | B90: T14181 | C90: CP1887G438 | D90: Thuốc Hen P/H Mỗi 250 ml cao lỏng chứa dịch chiết dược liệu tương ứng với: Ma hoàng 20g; Bán hạ 30g; Ngũ vị tử 20g; Tỳ bà diệp 20g; Cam thảo 20g; Tế tân 6g; Can khương 20g; Hạnh nhân 20g; Bối mẫu 20g; Trần bì 20g | E90: Chai | F90: 47 | G90: VD-25947-16 | H90: 71999.55 | I90: 80 | J90: 5759964 | M90: 6 | N90: 431997.3 | O90: 74 | P90: 5327966.7 | Q90: 44225.653
A91: 90 | B91: T14183 | C91: CP1887G440 | D91: Thuốc ho người lớn OPC Mỗi chai 90ml chứa: Cao lỏng dược liệu 1:2 (chiết từ các dược liệu: Tỳ bà diệp 16,2g; Cát cánh 1,8g; Bách bộ 2,79g; Tiền hồ 1,8g; Tang bạch bì 1,8g; Thiên môn 2,7g; Phục Linh/Bạch Linh 1,8g; Cam thảo 0,9g; Hòang cầm 1,8g) 63ml; Menthol 18mg; Cineol 18mg | E91: Chai | F91: 47 | G91: VD-25224-16 | H91: 23100 | I91: 311 | J91: 7184100 | M91: 36 | N91: 831600 | O91: 275 | P91: 6352500 | Q91: 44224.65
A92: 91 | B92: T14179 | C92: CP1887G436 | D92: Thuốc ho P/H Mỗi 100ml cao lỏng chứa dịch chiết được từ các dược liệu: Cao đặc Bách bộ (tương đương 15g Bách bộ) 2g; Cao đặc Cát cánh (tương đương 10g Cát cánh) 1g; Mạch môn 8g; Trần bì 6g; Cam thảo 4g; Bối mẫu 4g; Bạch quả 4g; Hạnh nhân 4g; Ma hòang 6g | E92: Chai | F92: 47 | G92: VD-25450-16 | H92: 25999.05 | I92: 39 | J92: 1013962.9 | M92: 2 | N92: 51998.1 | O92: 37 | P92: 961964.85 | Q92: 44210.645
A93: 92 | B93: T14184 | C93: CP1887G441 | D93: Thuốc ho trẻ em OPC Mỗi 90ml chứa: Tỳ bà diệp 16,2g; Cát cánh 1,8g; Bách bộ 2,79g; Tiền hồ 1,8g; Tang Bạch bì 1,8g; Thiên môn 2,7g; Phục Linh/Bạch Linh 1,8g; Cam thảo 0,9g; Hoàng cầm 1,8g; Cineol 18mg. | E93: Chai | F93: 47 | G93: VD-24238-16 | H93: 23100 | I93: 403 | J93: 9309300 | M93: 21 | N93: 485100 | O93: 382 | P93: 8824200 | Q93: 44225.653
A94: 93 | B94: T14171 | C94: CP1887G427 | D94: Thuốc trị viêm đại tràng Tradin extra Cao cam thảo 3,5:1 24mg; Cao hoàng liên 5,5:1 52mg; Cao kha tử 2,5:1 260mg; Cao bạch thược 3,5:1 18mg; Bột mộc hương 250mg; Bột bạch truật 50mg | E94: Viên | F94: 47 | G94: VD-24477-16 | H94: 1349.25 | I94: 2390 | J94: 3224707.5 | M94: 180 | N94: 242865 | O94: 2210 | P94: 2981842.5 | Q94: 44224.65
A95: 94 | B95: T181081 | C95: TT1186G1158 | D95: Tozinax 70mg | E95: Viên | F95: 47 | G95: VD-26368-17 | H95: 273 | I95: 1 | J95: 273 | O95: 1 | P95: 273
A96: 95 | B96: T181625 | C96: TT1917G3179 | D96: Troysar 50 50mg | E96: Viên | F96: 47 | G96: VN-10961-10 (GIA HẠN THEO CV SỐ 21894/QLD-ĐK NGÀY 23/11/2018) | H96: 638.4 | I96: 2010 | J96: 1283184 | O96: 2010 | P96: 1283184
A97: 96 | B97: T181763 | C97: TT1917G3408 | D97: VADOL 325 325mg | E97: Viên | F97: 47 | G97: VD-24372-16 | H97: 95 | I97: 2884 | J97: 273980 | M97: 305 | N97: 28975 | O97: 2579 | P97: 245005 | Q97: 44225.653
A98: 97 | B98: T181755 | C98: TT1917G3400 | D98: Valygyno 100.000UI + 35.000 UI + 35.000UI | E98: Viên | F98: 47 | G98: VD-25203-16 | H98: 3800 | I98: 20 | J98: 76000 | K98: 100 | L98: 380000 | M98: 10 | N98: 38000 | O98: 110 | P98: 418000 | Q98: 44216.634
A99: 98 | B99: T181729 | C99: TT1917G3356 | D99: Varogel 800,4mg + 611,76mg + 80mg/10ml | E99: Gói | F99: 47 | G99: VD-18848-13 (CÔNG VĂN GIA HẠN SĐK ĐẾN NGÀY 01/04/2020) | H99: 2290 | I99: 1060 | J99: 2427400 | M99: 440 | N99: 1007600 | O99: 620 | P99: 1419800 | Q99: 44225.653
A100: 99 | B100: T14197 | C100: CP1887G455 | D100: Viên sáng mắt Thục địa 800 mg; Hoài sơn 800 mg; Trạch tả 800 mg; Cúc hoa 800 mg, Hà thủ ô đỏ 800 mg, Thảo quyết minh 800 mg, Đương quy 800 mg; Hạ khô thảo 500 mg. | E100: Gói | F100: 47 | G100: VD-24072-16 | H100: 2199.75 | I100: 430 | J100: 945892.5 | M100: 70 | N100: 153982.5 | O100: 360 | P100: 791910 | Q100: 44218.632
A101: 100 | B101: T181770 | C101: TT1917G3422 | D101: Vinphyton 1mg 1mg/1 ml | E101: Ống | F101: 47 | G101: VD-16307-12(CV GIA HẠN 3325/QLD-ĐK) | H101: 1176 | I101: 8 | J101: 9408 | O101: 8 | P101: 9408
...

Sheet Sheet
A1: stt | B1: ma_thuoc | C1: ten_hoatchat | D1: ten_thuoc | E1: duong_dung | F1: ham_luong | G1: so_dky | H1: don_vi | I1: sl_noitru | J1: sl_ngoaitru | K1: don_gia | L1: thanh_tien | M1: Xuất
A2: 1 | B2: 40.725 | C2: Kẽm Gluconat | D2: A.T Zinc | E2: Uống | F2: 10mg Kẽm | G2: Vd-24740-16 | H2: Viên | I2: 0 | J2: 60 | K2: 202 | L2: 12120 | M2: =VLOOKUP(G2,'Tân Thành xnt 01'!$G$2:$P$108,7,0) -> 60 | N2: =IF(M2=J2,1,0) -> 1
A3: 2 | B3: 40.693 | C3: Alverin (citrat) | D3: Alverin | E3: Uống | F3: 40mg | G3: Vd-29221-18 | H3: Viên | I3: 0 | J3: 10 | K3: 94.5 | L3: 945 | M3: =VLOOKUP(G3,'Tân Thành xnt 01'!$G$2:$P$108,7,0) -> 10 | N3: =IF(M3=J3,1,0) -> 1
A4: 3 | B4: 40.988 | C4: Ambroxol | D4: Ambroxon 30mg | E4: Uống | F4: 30mg | G4: Vd-27370-17 | H4: Viên | I4: 0 | J4: 25 | K4: 229.95 | L4: 5749 | M4: =VLOOKUP(G4,'Tân Thành xnt 01'!$G$2:$P$108,7,0) -> 25 | N4: =IF(M4=J4,1,0) -> 1
A5: 4 | B5: 40.491 | C5: Amlodipin | D5: Amlodac 5 | E5: Uống | F5: 5mg | G5: Vn-22060-19 | H5: Viên | I5: 0 | J5: 2550 | K5: 213 | L5: 543150 | M5: =VLOOKUP(G5,'Tân Thành xnt 01'!$G$2:$P$108,7,0) -> 2550 | N5: =IF(M5=J5,1,0) -> 1
A6: 5 | B6: 40.154 | C6: Amoxicilin | D6: Amoxicilin 250mg | E6: Uống | F6: 250mg | G6: Vd-18249-13 | H6: Gói | I6: 0 | J6: 60 | K6: 525 | L6: 31500 | M6: =VLOOKUP(G6,'Tân Thành xnt 01'!$G$2:$P$108,7,0) -> 60 | N6: =IF(M6=J6,1,0) -> 1
A7: 6 | B7: 40.154 | C7: Amoxicilin | D7: Amoxiclin 250mg | E7: Uống | F7: 250mg | G7: Vd-20471-14 | H7: Viên | I7: 0 | J7: 30 | K7: 409.5 | L7: 12286 | M7: =VLOOKUP(G7,'Tân Thành xnt 01'!$G$2:$P$108,7,0) -> 30 | N7: =IF(M7=J7,1,0) -> 1
A8: 7 | B8: 40.31 | C8: Acetylsalicylic acid | D8: Aspirin Ph8 | E8: Uống | F8: 500mg | G8: Vd-15513-11 | H8: Viên | I8: 0 | J8: 20 | K8: 378 | L8: 7560 | M8: =VLOOKUP(G8,'Tân Thành xnt 01'!$G$2:$P$108,7,0) -> 20 | N8: =IF(M8=J8,1,0) -> 1
A9: 8 | B9: 40.155 | C9: Amoxicilin + acid clavulanic | D9: Augbidil 1g | E9: Uống | F9: 875mg+125mg | G9: Vd-27254-17 | H9: Viên | I9: 0 | J9: 230 | K9: 2331 | L9: 536130 | M9: =VLOOKUP(G9,'Tân Thành xnt 01'!$G$2:$P$108,7,0) -> 230 | N9: =IF(M9=J9,1,0) -> 1
A10: 9 | B10: 40.155 | C10: Amoxicilin + acid clavulanic | D10: Augbidil 250mg/31,25mg | E10: Uống | F10: 250mg+31,25mg | G10: Vd-26363-17 | H10: Gói | I10: 0 | J10: 45 | K10: 1189 | L10: 53505 | M10: =VLOOKUP(G10,'Tân Thành xnt 01'!$G$2:$P$108,7,0) -> 45 | N10: =IF(M10=J10,1,0) -> 1
A11: 10 | B11: 40.155 | C11: Amoxicilin + acid clavulanic | D11: Augxicine 500mg/ 62,5mg | E11: Uống | F11: 500mg +62,5mg | G11: Vd-30557-18 | H11: Gói | I11: 0 | J11: 84 | K11: 1890 | L11: 158760 | M11: =VLOOKUP(G11,'Tân Thành xnt 01'!$G$2:$P$108,7,0) -> 84 | N11: =IF(M11=J11,1,0) -> 1
A12: 11 | B12: 40.48 | C12: Paracetamol (acetaminophen) | D12: Biragan 650 | E12: Uống | F12: 650mg | G12: Vd-24393-16 | H12: Viên | I12: 0 | J12: 195 | K12: 168 | L12: 32760 | M12: =VLOOKUP(G12,'Tân Thành xnt 01'!$G$2:$P$108,7,0) -> 195 | N12: =IF(M12=J12,1,0) -> 1
A13: 12 | B13: 40.704 | C13: Bisacodyl | D13: Bisacodyldhg | E13: Uống | F13: 5mg | G13: Vd-21129-14(4188/Qld-Đk) | H13: Viên | I13: 0 | J13: 25 | K13: 249.9 | L13: 6248 | M13: =VLOOKUP(G13,'Tân Thành xnt 01'!$G$2:$P$108,7,0) -> 25 | N13: =IF(M13=J13,1,0) -> 1
... A64: 63 | B64: 05c.212.2 | C64: Thục địa, Hoài sơn, Trạch tả, Cúc hoa, Thảo quyết minh, Hạ khô thảo, Hà thủ ô đỏ, Đương quy | D64: Viên Sáng Mắt | E64: Uống | F64: Thục địa 800 mg; Hoài sơn 800 mg; Trạch tả 800 mg; Cúc hoa 800 mg, Hà thủ ô đỏ 800 mg, Thảo quyết minh 800 mg, Đương quy 800 mg; Hạ khô thảo 500 mg. | G64: Vd-24072-16 | H64: Gói | I64: 0 | J64: 70 | K64: 2199.75 | L64: 153986 | M64: =VLOOKUP(G64,'Tân Thành xnt 01'!$G$2:$P$108,7,0) -> 70 | N64: =IF(M64=J64,1,0) -> 1
A65: 64 | B65: 05c.8.10 | D65: Bavegan | E65: Uống | F65: Cao Khô Lá Actiso (Tương Đương 10g Lá Tươi Actiso) 80mg; Cao Khô Hạt Bìm Bìm Biếc (Tương Đương 75mg Hạt Bìm Bìm Biếc): 5,3mg; Cao Khô Rau Đắng Đất (Tương Đương Với 750mg Rau Đắng Đất): 75mg | G65: Vd-22425-15 | H65: Viên | I65: 0 | J65: 200 | K65: 399 | L65: 79800 | M65: =VLOOKUP(G65,'Tân Thành xnt 01'!$G$2:$P$108,7,0) -> 200 | N65: =IF(M65=J65,1,0) -> 1
A66: 65 | B66: 40.989 | D66: Bromhexin | E66: Uống | F66: 8mg | G66: Vd-31731-19 | H66: Viên | I66: 0 | J66: 282 | K66: 42 | L66: 11844 | M66: =VLOOKUP(G66,'Tân Thành xnt 01'!$G$2:$P$108,7,0) -> 282 | N66: =IF(M66=J66,1,0) -> 1
A67: 66 | B67: 40.980 | D67: Buto-Asma | E67: Xịt | F67: 100mcg/ Liều, 200 Liều/ Lọ | G67: Vn-16442-13 | H67: Lọ | I67: 0 | J67: 1 | K67: 51999.15 | L67: 51999 | M67: =VLOOKUP(G67,'Tân Thành xnt 01'!$G$2:$P$108,7,0) -> 1 | N67: =IF(M67=J67,1,0) -> 1
A68: 67 | B68: 40.677 | D68: Cetecoleceti 20mg | E68: Uống | F68: 20mg | G68: Vd-32668-19 | H68: Viên | I68: 0 | J68: 470 | K68: 174.3 | L68: 81921 | M68: =VLOOKUP(G68,'Tân Thành xnt 01'!$G$2:$P$108,7,0) -> 470 | N68: =IF(M68=J68,1,0) -> 1
A69: 68 | B69: 05c.224.6 | D69: Cồn Xoa Bóp | E69: Dùng ngoài | F69: Địa Liền 4,5g; Riềng 4,5g; Thiên Niên Kiện 2,7g; Huyết Giác 2,7g; Đại Hồi 1,8g; Quế Chi 1,8g; Ô Đầu 0,9g; Camphora 0,9g. | G69: Vd-12885-10 ( Gh 11439/Qld-Đk Từ 19/6/2018) | H69: Chai | I69: 0 | J69: 9 | K69: 22999.2 | L69: 206991 | M69: =VLOOKUP(G69,'Tân Thành xnt 01'!$G$2:$P$108,7,0) -> 9 | N69: =IF(M69=J69,1,0) -> 1
A70: 69 | B70: 05c.150 | D70: Hoastex | E70: Uống | F70: Mỗi Chai 90ml Chứa Dịch Chiết Từ: Húng Chanh 45g; Núc Nác 11,25g; Cineol 83,7mg | G70: Vd-25220-16 | H70: Chai | I70: 0 | J70: 1 | K70: 32999.4 | L70: 32999 | M70: =VLOOKUP(G70,'Tân Thành xnt 01'!$G$2:$P$108,7,0) -> 1 | N70: =IF(M70=J70,1,0) -> 1
A71: 70 | B71: 05c.169.22 | D71: Hoàn Bát Vị Bổ Thận Dương | E71: Uống | F71: Cao Đặc Qui Về Khan (Tương Ứng Với: Thục Địa 73,5mg; Hoài Sơn 66mg; Sơn Thù 60,5mg; Trạch Tả 44,75mg; Phụ Tử Chế 15,12mg) 40,5mg. Bột Kép (Thục Địa 5,25mg; Hoài Sơn 6mg; Sơn Thù 5,5mg; Mẫu Đơn Bì 48,75mg; Trạch Tả 4mg; Phục Linh 48,75mg; Quế Nhục 16,5mg; Phụ Tử Chế 1,38mg) 136,13mg | G71: Vd-19914-13 (Cv 20850/Qld-Đk, Gia Hạn Đến 02/11/2019) | H71: Viên | I71: 0 | J71: 480 | K71: 174.3 | L71: 83664 | M71: =VLOOKUP(G71,'Tân Thành xnt 01'!$G$2:$P$108,7,0) -> 480 | N71: =IF(M71=J71,1,0) -> 1
A72: 71 | B72: 40.260 | D72: Paclovir | E72: Dùng ngoài | F72: 0,25g/5g | G72: Vd-31496-19 | H72: Tube | I72: 0 | J72: 1 | K72: 4749.15 | L72: 4749 | M72: =VLOOKUP(G72,'Tân Thành xnt 01'!$G$2:$P$108,7,0) -> 1 | N72: =IF(M72=J72,1,0) -> 1
A73: 72 | B73: 05c.90.2 | D73: Phì Nhi Đại Bổ | E73: Uống | F73: 500mg, 400mg, 400mg, 300mg, 500mg, 400mg, 100mg, 1g, 1.4g | G73: Vd-21324-14 | H73: Viên/5gam | I73: 0 | J73: 24 | K73: 2399.25 | L73: 57582 | M73: =VLOOKUP(G73,'Tân Thành xnt 01'!$G$2:$P$108,7,0) -> 24 | N73: =IF(M73=J73,1,0) -> 1
A74: 73 | B74: 40.55 | D74: Piroxicam | E74: Uống | F74: 20mg | G74: Vd-15910-11 (Gh 12 Tháng Từ Ngày 29/12/2017) | H74: Viên | I74: 0 | J74: 30 | K74: 197.4 | L74: 5922 | M74: =VLOOKUP(G74,'Tân Thành xnt 01'!$G$2:$P$108,7,0) -> 30 | N74: =IF(M74=J74,1,0) -> 1
A75: 74 | B75: 40.937 | D75: Rotundin 60 | E75: Uống | F75: 60mg | G75: Vd-20224-13 | H75: Viên | I75: 0 | J75: 45 | K75: 699.3 | L75: 31469 | M75: =VLOOKUP(G75,'Tân Thành xnt 01'!$G$2:$P$108,7,0) -> 45 | N75: =IF(M75=J75,1,0) -> 1
A76: 75 | B76: 40.148 | D76: Tataca | E76: Uống | F76: 500mg | G76: Vd-22286-15 | H76: Viên | I76: 0 | J76: 8 | K76: 3857 | L76: 30856 | M76: =VLOOKUP(G76,'Tân Thành xnt 01'!$G$2:$P$108,7,0) -> 8 | N76: =IF(M76=J76,1,0) -> 1
... A78: 77 | B78: 05c.94 | D78: Thuốc Trị Viêm Đại Tràng Tradin Extra | E78: Uống | F78: Cao Cam Thảo 3,5:1 24mg; Cao Hoàng Liên 5,5:1 52mg; Cao Kha Tử 2,5:1 260mg; Cao Bạch Thược 3,5:1 18mg; Bột Mộc Hương 250mg; Bột Bạch Truật 50mg | G78: Vd-24477-16 | H78: Viên | I78: 0 | J78: 180 | K78: 1349.25 | L78: 242867 | M78: =VLOOKUP(G78,'Tân Thành xnt 01'!$G$2:$P$108,7,0) -> 180 | N78: =IF(M78=J78,1,0) -> 1
