Workbook

Sheet Tân Thành xnt 01
A1: STT | B1: mahh | C1: mahh1 | D1: tenhh | E1: dvt | F1: Mã Kho xuất | G1: Số đăng ký | H1: dongia | I1: soluong|1|2|Số lượng|Tồn đầu kỳ | J1: thanhtien1|1|1|Thành tiền | K1: soluong|1|2|Số lượng|Nhập trong kỳ | L1: thanhtien3|1|1|Thành tiền | M1: soluong|1|2|Số lượng|Xuất trong kỳ | N1: thanhtien6|1|1|Thành tiền | O1: soluong|1|2|Số lượng|Tồn cuối kỳ | P1: thanhtien7|1|1|Thành tiền | Q1: ngayxuat
A2: 1 | B2: T14101 | C2: CP1169G206 | D2: Bavegan Cao khô Lá Actiso (tương đương 10g Lá tươi Actiso) 80mg; Cao khô hạt bìm bìm biếc (tương đương 75mg hạt bìm bìm biếc): 5,3mg; Cao khô rau đắng đất (tương đương với 750mg rau đắng đất): 75mg | E2: viên | F2: 47 | G2: VD-22425-15 | H2: 399 | I2: 220 | J2: 87780 | M2: 200 | N2: 79800 | O2: 20 | P2: 7980 | Q2: 44210.587
A3: 2 | B3: T181720 | C3: TT1917G3344 | D3: A.T Zinc 10mg Kẽm | E3: Viên | F3: 47 | G3: VD-24740-16 | H3: 202 | I3: 310 | J3: 62620 | M3: 60 | N3: 12120 | O3: 250 | P3: 50500 | Q3: 44225.653
A4: 3 | B4: T181802 | C4: TT1917G3493 | D4: Acyclovir Stada 800mg 800mg | E4: Viên | F4: 47 | G4: VD-23346-15 | H4: 4000 | I4: 140 | J4: 560000 | O4: 140 | P4: 560000
A5: 4 | B5: T181687 | C5: TT1917G3277 | D5: Alcool 70° 70°, 60ml | E5: Chai | F5: 47 | G5: VD-31793-19 | H5: 2310 | I5: 43.4 | J5: 100254 | M5: 0.2 | N5: 462 | O5: 43.2 | P5: 99792 | Q5: 44200.449
A6: 5 | B6: T181653 | C6: TT1917G3221 | D6: Alverin 40mg | E6: Viên | F6: 47 | G6: VD-29221-18 | H6: 94.5 | I6: 10 | J6: 945 | M6: 10 | N6: 945 | O6: 0 | P6: 0 | Q6: 44200.672
A7: 6 | B7: T18951 | C7: TT1186G1026 | D7: Ambroxon 30mg 30mg | E7: Viên | F7: 47 | G7: VD-27370-17 | H7: 229.95 | I7: 1230 | J7: 282838.5 | M7: 25 | N7: 5748.75 | O7: 1205 | P7: 277089.75 | Q7: 44211.65
A8: 7 | B8: T181477 | C8: TT1801G110 | D8: AMLODAC 5 5mg | E8: Viên | F8: 47 | G8: VN-22060-19 | H8: 213 | I8: 9047 | J8: 1927011 | M8: 2550 | N8: 543150 | O8: 6497 | P8: 1383861 | Q8: 44225.653
A9: 8 | B9: T181655 | C9: TT1917G3226 | D9: Amoxicilin 250mg 250mg | E9: Gói | F9: 47 | G9: VD-18249-13 | H9: 525 | I9: 197 | J9: 103425 | M9: 60 | N9: 31500 | O9: 137 | P9: 71925 | Q9: 44218.665
A10: 9 | B10: T181280 | C10: TT410G809 | D10: Amoxiclin 250mg 250mg | E10: Viên | F10: 47 | G10: VD-20471-14 | H10: 409.5 | I10: 980 | J10: 401310 | M10: 30 | N10: 12285 | O10: 950 | P10: 389025 | Q10: 44223.662
A11: 10 | B11: T181445 | C11: TT1464G10040 | D11: Aspirin pH8 500mg | E11: Viên | F11: 47 | G11: VD-15513-11 | H11: 378 | I11: 70 | J11: 26460 | M11: 20 | N11: 7560 | O11: 50 | P11: 18900 | Q11: 44222.662
A12: 11 | B12: T181294 | C12: TT11G403 | D12: Augbidil 1g 875mg+125mg | E12: Viên | F12: 47 | G12: VD-27254-17 | H12: 2331 | I12: 1548 | J12: 3608388 | M12: 230 | N12: 536130 | O12: 1318 | P12: 3072258 | Q12: 44224.651
A13: 12 | B13: T181292 | C13: TT11G401 | D13: Augbidil 250mg/31,25mg 250mg+31,25mg | E13: Gói | F13: 47 | G13: VD-26363-17 | H13: 1189 | I13: 1420 | J13: 1688380 | M13: 45 | N13: 53505 | O13: 1375 | P13: 1634875 | Q13: 44210.587
A14: 13 | B14: T181486 | C14: TT1801G119 | D14: AUGXICINE 500mg/ 62,5mg 500mg +62,5mg | E14: Gói | F14: 47 | G14: VD-30557-18 | H14: 1890 | I14: 84 | J14: 158760 | M14: 84 | N14: 158760 | O14: 0 | P14: 0 | Q14: 44222.662
A15: 14 | B15: T181369 | C15: TT466G5072 | D15: Biceflexin powder 250mg | E15: gói | F15: 47 | G15: VD-18250-13 | H15: 750 | I15: 4 | J15: 3000 | O15: 4 | P15: 3000
A16: 15 | B16: T181793 | C16: TT1917G3466 | D16: Biracin-E 0,3%, 5ml | E16: Lọ 5ml | F16: 47 | G16: VD-23135-15 | H16: 2940 | I16: 8 | J16: 23520 | K16: 20 | L16: 58800 | O16: 28 | P16: 82320
A17: 16 | B17: T181519 | C17: TT1801G152 | D17: Biragan 650 650mg | E17: Viên | F17: 47 | G17: VD-24393-16 | H17: 168 | I17: 1825 | J17: 306600 | M17: 195 | N17: 32760 | O17: 1630 | P17: 273840 | Q17: 44224.651
A18: 17 | B18: T181098 | C18: TT1186G1175 | D18: Biragan Kids 325 325mg | E18: Gói | F18: 47 | G18: VD-24935-16 | H18: 1890 | I18: 4 | J18: 7560 | O18: 4 | P18: 7560
A19: 18 | B19: T181663 | C19: TT1917G3240 | D19: BisacodylDHG 5mg | E19: Viên | F19: 47 | G19: VD-21129-14(4188/QLD-ĐK) | H19: 249.9 | I19: 190 | J19: 47481 | M19: 25 | N19: 6247.5 | O19: 165 | P19: 41233.5 | Q19: 44201.671
A20: 19 | B20: T181256 | C20: TT1796G4052 | D20: Bixicam 7,5mg | E20: Viên | F20: 47 | G20: VD-21238-14 | H20: 231 | I20: 5 | J20: 1155 | O20: 5 | P20: 1155
A21: 20 | B21: T181437 | C21: TT1464G10029 | D21: Bromhexin 8mg | E21: Viên | F21: 47 | G21: VD-31731-19 | H21: 42 | I21: 525 | J21: 22050 | M21: 282 | N21: 11844 | O21: 243 | P21: 10206 | Q21: 44225.653
A22: 21 | B22: T181383 | C22: TT466G5086 | D22: Buto-Asma 100mcg/ liều, 200 liều/ lọ | E22: Lọ | F22: 47 | G22: VN-16442-13 | H22: 51999.15 | I22: 1 | J22: 51999.15 | M22: 1 | N22: 51999.15 | O22: 0 | P22: 0 | Q22: 44201.574
A23: 22 | B23: T14136 | C23: CP1169G242 | D23: Cao ích mẫu Mỗi 90ml chứa: Ích mẫu 72g; Hương phụ 22,5g; Ngải cứu 18g | E23: Chai 180ml | F23: 47 | G23: VD-22491-15 | H23: 33600 | I23: 15 | J23: 504000 | M23: 1 | N23: 33600 | O23: 14 | P23: 470400 | Q23: 44216.634
A24: 23 | B24: T181480 | C24: TT1801G113 | D24: Captopril Stada 25mg 25mg | E24: Viên | F24: 47 | G24: VD-27519-17 | H24: 490 | I24: 419 | J24: 205310 | M24: 185 | N24: 90650 | O24: 234 | P24: 114660 | Q24: 44224.65
A25: 24 | B25: T181673 | C25: TT1917G3258 | D25: Cefaclor 250mg 250mg | E25: Gói | F25: 47 | G25: VD-26895-17 | H25: 1965 | I25: 995 | J25: 1955175 | M25: 90 | N25: 176850 | O25: 905 | P25: 1778325 | Q25: 44218.631
A26: 25 | B26: T181518 | C26: TT1801G151 | D26: Cenpadol 250 mg 250mg | E26: Gói | F26: 47 | G26: VD-19703-13 | H26: 649.95 | I26: 4946 | J26: 3214652.7 | M26: 100 | N26: 64995 | O26: 4846 | P26: 3149657.7 | Q26: 44225.653
A27: 26 | B27: T181602 | C27: TT1917G3145 | D27: Cephalexin PMP 500 500mg | E27: Viên | F27: 47 | G27: VD-24430-16 | H27: 1470 | I27: 35 | J27: 51450 | M27: 35 | N27: 51450 | O27: 0 | P27: 0 | Q27: 44214.659
A28: 27 | B28: T181632 | C28: TT1917G3188 | D28: Cetampir 800 800mg | E28: Viên | F28: 47 | G28: VD-25260-16 | H28: 1083 | I28: 1275 | J28: 1380825 | M28: 190 | N28: 205770 | O28: 1085 | P28: 1175055 | Q28: 44225.653
A29: 28 | B29: T181516 | C29: TT1801G149 | D29: Cetecoleceti 20mg 20mg | E29: Viên | F29: 47 | G29: VD-32668-19 | H29: 174.3 | I29: 6680 | J29: 1164324 | M29: 470 | N29: 81921 | O29: 6210 | P29: 1082403 | Q29: 44225.653
A30: 29 | B30: T181483 | C30: TT1801G116 | D30: Clanoz 10mg | E30: Viên | F30: 47 | G30: VD-20550-14 (CV SỐ 3203/QLD-ĐK) | H30: 459.9 | I30: 1362 | J30: 626383.8 | M30: 35 | N30: 16096.5 | O30: 1327 | P30: 610287.3 | Q30: 44225.653
A31: 30 | B31: T181681 | C31: TT1917G3266 | D31: Clorpheniramin 4 4mg | E31: Viên | F31: 47 | G31: VD-21132-14(GH 4188/QLD-ĐK) | H31: 33.6 | I31: 2959 | J31: 99422.4 | M31: 806 | N31: 27081.6 | O31: 2153 | P31: 72340.8 | Q31: 44225.653
A32: 31 | B32: T181686 | C32: TT1917G3275 | D32: Colchicin 1mg | E32: Viên | F32: 47 | G32: VD-22172-15 | H32: 349.65 | I32: 990 | J32: 346153.5 | O32: 990 | P32: 346153.5
A33: 32 | B33: T18973 | C33: TT1186G1048 | D33: Colchicine Galien 1mg | E33: Viên | F33: 47 | G33: VD-22784-15 | H33: 249.9 | I33: 35 | J33: 8746.5 | O33: 35 | P33: 8746.5
A34: 33 | B34: T181688 | C34: TT1917G3278 | D34: CỒN BORIC 3% 3%, 10ml | E34: Lọ | F34: 47 | G34: VD-23481-15 | H34: 6300 | I34: 7 | J34: 44100 | O34: 7 | P34: 44100
A35: 34 | B35: T14199 | C35: CP1887G457 | D35: Cồn xoa bóp Địa liền 4,5g; Riềng 4,5g; Thiên niên kiện 2,7g; Huyết giác 2,7g; Đại hồi 1,8g; Quế chi 1,8g; Ô đầu 0,9g; Camphora 0,9g. | E35: Chai | F35: 47 | G35: VD-12885-10 ( GH 11439/QLD-ĐK TỪ 19/6/2018) | H35: 22999.2 | I35: 68 | J35: 1563945.6 | M35: 9 | N35: 206992.8 | O35: 59 | P35: 1356952.8 | Q35: 44222.662
A36: 35 | B36: T181472 | C36: TT1801G105 | D36: Cyclindox 100mg 100mg | E36: Viên | F36: 47 | G36: VN-20558-17 | H36: 1499.4 | I36: 180 | J36: 269892 | O36: 180 | P36: 269892
A37: 36 | B37: T14146 | C37: CP1887G402 | D37: Cynaphytol Cao khô actiso (tương đương với 4g lá tươi actiso) 0,16g | E37: Viên | F37: 47 | G37: VD-24104-16 | H37: 479.85 | I37: 4165 | J37: 1998575.2 | M37: 280 | N37: 134358 | O37: 3885 | P37: 1864217.2 | Q37: 44222.662
A38: 37 | B38: T14198 | C38: CP1887G456 | D38: Dầu nóng mặt trời Mỗi 60ml chứa: Methyl salycilat 18,63g; Camphor 6,30g; Tinh dầu quế 0,33g; Tinh dầu bạc hà 7,44g; Gừng 1,89g | E38: Chai | F38: 47 | G38: VD-30948-18 | H38: 27799.8 | I38: 27 | J38: 750594.6 | M38: 3 | N38: 83399.4 | O38: 24 | P38: 667195.2 | Q38: 44218.631
A39: 38 | B39: T181814 | C39: TT1917G3511 | D39: Diaprid 2 2mg | E39: Viên | F39: 47 | G39: VD-24959-16 | H39: 1660 | I39: 2700 | J39: 4482000 | O39: 2700 | P39: 4482000
A40: 39 | B40: T181695 | C40: TT1917G3291 | D40: DICLOFENAC 75 75mg | E40: Viên | F40: 47 | G40: VD-21923-14 | H40: 140 | I40: 40 | J40: 5600 | M40: 40 | N40: 5600 | O40: 0 | P40: 0 | Q40: 44215.44
...

Sheet Sheet
A1: stt | B1: ma_thuoc | C1: ten_hoatchat | D1: ten_thuoc | E1: duong_dung | F1: ham_luong | G1: so_dky | H1: don_vi | I1: sl_noitru | J1: sl_ngoaitru | K1: don_gia | L1: thanh_tien | M1: Xuất
A2: 1 | B2: 40.725 | C2: Kẽm Gluconat | D2: A.T Zinc | E2: Uống | F2: 10mg Kẽm | G2: Vd-24740-16 | H2: Viên | I2: 0 | J2: 60 | K2: 202 | L2: 12120 | M2: =VLOOKUP(G2,'Tân Thành xnt 01'!$G$2:$P$108,7,0) -> 60 | N2: =IF(M2=J2,1,0) -> 1
A3: 2 | B3: 40.693 | C3: Alverin (citrat) | D3: Alverin | E3: Uống | F3: 40mg | G3: Vd-29221-18 | H3: Viên | I3: 0 | J3: 10 | K3: 94.5 | L3: 945 | M3: =VLOOKUP(G3,'Tân Thành xnt 01'!$G$2:$P$108,7,0) -> 10 | N3: =IF(M3=J3,1,0) -> 1
A4: 3 | B4: 40.988 | C4: Ambroxol | D4: Ambroxon 30mg | E4: Uống | F4: 30mg | G4: Vd-27370-17 | H4: Viên | I4: 0 | J4: 25 | K4: 229.95 | L4: 5749 | M4: =VLOOKUP(G4,'Tân Thành xnt 01'!$G$2:$P$108,7,0) -> 25 | N4: =IF(M4=J4,1,0) -> 1
A5: 4 | B5: 40.491 | C5: Amlodipin | D5: Amlodac 5 | E5: Uống | F5: 5mg | G5: Vn-22060-19 | H5: Viên | I5: 0 | J5: 2550 | K5: 213 | L5: 543150 | M5: =VLOOKUP(G5,'Tân Thành xnt 01'!$G$2:$P$108,7,0) -> 2550 | N5: =IF(M5=J5,1,0) -> 1
A6: 5 | B6: 40.154 | C6: Amoxicilin | D6: Amoxicilin 250mg | E6: Uống | F6: 250mg | G6: Vd-18249-13 | H6: Gói | I6: 0 | J6: 60 | K6: 525 | L6: 31500 | M6: =VLOOKUP(G6,'Tân Thành xnt 01'!$G$2:$P$108,7,0) -> 60 | N6: =IF(M6=J6,1,0) -> 1
A7: 6 | B7: 40.154 | C7: Amoxicilin | D7: Amoxiclin 250mg | E7: Uống | F7: 250mg | G7: Vd-20471-14 | H7: Viên | I7: 0 | J7: 30 | K7: 409.5 | L7: 12286 | M7: =VLOOKUP(G7,'Tân Thành xnt 01'!$G$2:$P$108,7,0) -> 30 | N7: =IF(M7=J7,1,0) -> 1
A8: 7 | B8: 40.31 | C8: Acetylsalicylic acid | D8: Aspirin Ph8 | E8: Uống | F8: 500mg | G8: Vd-15513-11 | H8: Viên | I8: 0 | J8: 20 | K8: 378 | L8: 7560 | M8: =VLOOKUP(G8,'Tân Thành xnt 01'!$G$2:$P$108,7,0) -> 20 | N8: =IF(M8=J8,1,0) -> 1
A9: 8 | B9: 40.155 | C9: Amoxicilin + acid clavulanic | D9: Augbidil 1g | E9: Uống | F9: 875mg+125mg | G9: Vd-27254-17 | H9: Viên | I9: 0 | J9: 230 | K9: 2331 | L9: 536130 | M9: =VLOOKUP(G9,'Tân Thành xnt 01'!$G$2:$P$108,7,0) -> 230 | N9: =IF(M9=J9,1,0) -> 1
A10: 9 | B10: 40.155 | C10: Amoxicilin + acid clavulanic | D10: Augbidil 250mg/31,25mg | E10: Uống | F10: 250mg+31,25mg | G10: Vd-26363-17 | H10: Gói | I10: 0 | J10: 45 | K10: 1189 | L10: 53505 | M10: =VLOOKUP(G10,'Tân Thành xnt 01'!$G$2:$P$108,7,0) -> 45 | N10: =IF(M10=J10,1,0) -> 1
A11: 10 | B11: 40.155 | C11: Amoxicilin + acid clavulanic | D11: Augxicine 500mg/ 62,5mg | E11: Uống | F11: 500mg +62,5mg | G11: Vd-30557-18 | H11: Gói | I11: 0 | J11: 84 | K11: 1890 | L11: 158760 | M11: =VLOOKUP(G11,'Tân Thành xnt 01'!$G$2:$P$108,7,0) -> 84 | N11: =IF(M11=J11,1,0) -> 1
A12: 11 | B12: 40.48 | C12: Paracetamol (acetaminophen) | D12: Biragan 650 | E12: Uống | F12: 650mg | G12: Vd-24393-16 | H12: Viên | I12: 0 | J12: 195 | K12: 168 | L12: 32760 | M12: =VLOOKUP(G12,'Tân Thành xnt 01'!$G$2:$P$108,7,0) -> 195 | N12: =IF(M12=J12,1,0) -> 1
A13: 12 | B13: 40.704 | C13: Bisacodyl | D13: Bisacodyldhg | E13: Uống | F13: 5mg | G13: Vd-21129-14(4188/Qld-Đk) | H13: Viên | I13: 0 | J13: 25 | K13: 249.9 | L13: 6248 | M13: =VLOOKUP(G13,'Tân Thành xnt 01'!$G$2:$P$108,7,0) -> 25 | N13: =IF(M13=J13,1,0) -> 1
... A64: 63 | B64: 05c.212.2 | C64: Thục địa, Hoài sơn, Trạch tả, Cúc hoa, Thảo quyết minh, Hạ khô thảo, Hà thủ ô đỏ, Đương quy | D64: Viên Sáng Mắt | E64: Uống | F64: Thục địa 800 mg; Hoài sơn 800 mg; Trạch tả 800 mg; Cúc hoa 800 mg, Hà thủ ô đỏ 800 mg, Thảo quyết minh 800 mg, Đương quy 800 mg; Hạ khô thảo 500 mg. | G64: Vd-24072-16 | H64: Gói | I64: 0 | J64: 70 | K64: 2199.75 | L64: 153986 | M64: =VLOOKUP(G64,'Tân Thành xnt 01'!$G$2:$P$108,7,0) -> 70 | N64: =IF(M64=J64,1,0) -> 1
A65: 64 | B65: 05c.8.10 | D65: Bavegan | E65: Uống | F65: Cao Khô Lá Actiso (Tương Đương 10g Lá Tươi Actiso) 80mg; Cao Khô Hạt Bìm Bìm Biếc (Tương Đương 75mg Hạt Bìm Bìm Biếc): 5,3mg; Cao Khô Rau Đắng Đất (Tương Đương Với 750mg Rau Đắng Đất): 75mg | G65: Vd-22425-15 | H65: Viên | I65: 0 | J65: 200 | K65: 399 | L65: 79800 | M65: =VLOOKUP(G65,'Tân Thành xnt 01'!$G$2:$P$108,7,0) -> 200 | N65: =IF(M65=J65,1,0) -> 1
A66: 65 | B66: 40.989 | D66: Bromhexin | E66: Uống | F66: 8mg | G66: Vd-31731-19 | H66: Viên | I66: 0 | J66: 282 | K66: 42 | L66: 11844 | M66: =VLOOKUP(G66,'Tân Thành xnt 01'!$G$2:$P$108,7,0) -> 282 | N66: =IF(M66=J66,1,0) -> 1
A67: 66 | B67: 40.980 | D67: Buto-Asma | E67: Xịt | F67: 100mcg/ Liều, 200 Liều/ Lọ | G67: Vn-16442-13 | H67: Lọ | I67: 0 | J67: 1 | K67: 51999.15 | L67: 51999 | M67: =VLOOKUP(G67,'Tân Thành xnt 01'!$G$2:$P$108,7,0) -> 1 | N67: =IF(M67=J67,1,0) -> 1
A68: 67 | B68: 40.677 | D68: Cetecoleceti 20mg | E68: Uống | F68: 20mg | G68: Vd-32668-19 | H68: Viên | I68: 0 | J68: 470 | K68: 174.3 | L68: 81921 | M68: =VLOOKUP(G68,'Tân Thành xnt 01'!$G$2:$P$108,7,0) -> 470 | N68: =IF(M68=J68,1,0) -> 1
A69: 68 | B69: 05c.224.6 | D69: Cồn Xoa Bóp | E69: Dùng ngoài | F69: Địa Liền 4,5g; Riềng 4,5g; Thiên Niên Kiện 2,7g; Huyết Giác 2,7g; Đại Hồi 1,8g; Quế Chi 1,8g; Ô Đầu 0,9g; Camphora 0,9g. | G69: Vd-12885-10 ( Gh 11439/Qld-Đk Từ 19/6/2018) | H69: Chai | I69: 0 | J69: 9 | K69: 22999.2 | L69: 206991 | M69: =VLOOKUP(G69,'Tân Thành xnt 01'!$G$2:$P$108,7,0) -> 9 | N69: =IF(M69=J69,1,0) -> 1
A70: 69 | B70: 05c.150 | D70: Hoastex | E70: Uống | F70: Mỗi Chai 90ml Chứa Dịch Chiết Từ: Húng Chanh 45g; Núc Nác 11,25g; Cineol 83,7mg | G70: Vd-25220-16 | H70: Chai | I70: 0 | J70: 1 | K70: 32999.4 | L70: 32999 | M70: =VLOOKUP(G70,'Tân Thành xnt 01'!$G$2:$P$108,7,0) -> 1 | N70: =IF(M70=J70,1,0) -> 1
A71: 70 | B71: 05c.169.22 | D71: Hoàn Bát Vị Bổ Thận Dương | E71: Uống | F71: Cao Đặc Qui Về Khan (Tương Ứng Với: Thục Địa 73,5mg; Hoài Sơn 66mg; Sơn Thù 60,5mg; Trạch Tả 44,75mg; Phụ Tử Chế 15,12mg) 40,5mg. Bột Kép (Thục Địa 5,25mg; Hoài Sơn 6mg; Sơn Thù 5,5mg; Mẫu Đơn Bì 48,75mg; Trạch Tả 4mg; Phục Linh 48,75mg; Quế Nhục 16,5mg; Phụ Tử Chế 1,38mg) 136,13mg | G71: Vd-19914-13 (Cv 20850/Qld-Đk, Gia Hạn Đến 02/11/2019) | H71: Viên | I71: 0 | J71: 480 | K71: 174.3 | L71: 83664 | M71: =VLOOKUP(G71,'Tân Thành xnt 01'!$G$2:$P$108,7,0) -> 480 | N71: =IF(M71=J71,1,0) -> 1
A72: 71 | B72: 40.260 | D72: Paclovir | E72: Dùng ngoài | F72: 0,25g/5g | G72: Vd-31496-19 | H72: Tube | I72: 0 | J72: 1 | K72: 4749.15 | L72: 4749 | M72: =VLOOKUP(G72,'Tân Thành xnt 01'!$G$2:$P$108,7,0) -> 1 | N72: =IF(M72=J72,1,0) -> 1
A73: 72 | B73: 05c.90.2 | D73: Phì Nhi Đại Bổ | E73: Uống | F73: 500mg, 400mg, 400mg, 300mg, 500mg, 400mg, 100mg, 1g, 1.4g | G73: Vd-21324-14 | H73: Viên/5gam | I73: 0 | J73: 24 | K73: 2399.25 | L73: 57582 | M73: =VLOOKUP(G73,'Tân Thành xnt 01'!$G$2:$P$108,7,0) -> 24 | N73: =IF(M73=J73,1,0) -> 1
A74: 73 | B74: 40.55 | D74: Piroxicam | E74: Uống | F74: 20mg | G74: Vd-15910-11 (Gh 12 Tháng Từ Ngày 29/12/2017) | H74: Viên | I74: 0 | J74: 30 | K74: 197.4 | L74: 5922 | M74: =VLOOKUP(G74,'Tân Thành xnt 01'!$G$2:$P$108,7,0) -> 30 | N74: =IF(M74=J74,1,0) -> 1
A75: 74 | B75: 40.937 | D75: Rotundin 60 | E75: Uống | F75: 60mg | G75: Vd-20224-13 | H75: Viên | I75: 0 | J75: 45 | K75: 699.3 | L75: 31469 | M75: =VLOOKUP(G75,'Tân Thành xnt 01'!$G$2:$P$108,7,0) -> 45 | N75: =IF(M75=J75,1,0) -> 1
A76: 75 | B76: 40.148 | D76: Tataca | E76: Uống | F76: 500mg | G76: Vd-22286-15 | H76: Viên | I76: 0 | J76: 8 | K76: 3857 | L76: 30856 | M76: =VLOOKUP(G76,'Tân Thành xnt 01'!$G$2:$P$108,7,0) -> 8 | N76: =IF(M76=J76,1,0) -> 1
... A78: 77 | B78: 05c.94 | D78: Thuốc Trị Viêm Đại Tràng Tradin Extra | E78: Uống | F78: Cao Cam Thảo 3,5:1 24mg; Cao Hoàng Liên 5,5:1 52mg; Cao Kha Tử 2,5:1 260mg; Cao Bạch Thược 3,5:1 18mg; Bột Mộc Hương 250mg; Bột Bạch Truật 50mg | G78: Vd-24477-16 | H78: Viên | I78: 0 | J78: 180 | K78: 1349.25 | L78: 242867 | M78: =VLOOKUP(G78,'Tân Thành xnt 01'!$G$2:$P$108,7,0) -> 180 | N78: =IF(M78=J78,1,0) -> 1
