Workbook

Sheet Table 1
A1: 55950 | B1: ANH CAÀN EM Anh ngoài suy nghó veà chuyeän tình ñoâi ta seõ ñi veà ñaâu em ôi… | C1: Khaéc Vieät
A2: 55951 | B2: ANH KHAÙC HAY EM KHAÙC Coù phaûi em heát yeâu anh roài em haõy noùi ñi ngöôøi ôi… | C2: Khaéc Vieät
A3: 55952 | B3: ANH KHOÂNG LAØ GIAÁC MÔ Khi em quen anh bao aâu lo tan bieán trong cuoäc ñôøi… | C3: Phaïm Hoaøng Long
A4: 55953 | B4: ANH MÔ Saùng nay anh ñöôïc gaëp em, loøng anh haïnh phuùc thaät nhieàu... | C4: Anh Khang
A5: 55954 | B5: ANH MUOÁN NOÙI Trong tình yeâu ngöôøi ñôøi hay noùi nhau raèng... | C5: Minh Vy
A6: 55955 | B6: ANH QUEÂN BAÛN THAÂN ANH LAØ AI Ngaøy beân nhau anh mong phuùt giaây eâm ñeàm... | C6: Haø Haûi Ñaêng
A7: 55956 | B7: ANH TROÂI VEÀ EM Möa laïi rôi ngaån ngô goùc phoá, em ñi veà möa rôi ngaøy xöa... | C7: Huy Tuaán
A8: 55957 | B8: ANH VAÃN THÖÙ THA Ngaøy thaùng troáng vaéng vaãn rôi beân ñôøi anh khi em ñi maát roài... | C8: Ñoã Ñình Phuùc
A9: 55958 | B9: AÙNH MAÉT ÑAÀU TIEÂN Ñeâm qua lang thang böôùc treân doïc nôi haønh lang phoá quen… | C9: Nguyeãn Hoàng Thuaän
A10: 55959 | B10: AÙNH SAO BAÊNG COÂ ÑÔN Ngoài trong ñeâm anh ngaém sao nghe loøng bao xoùt xa... | C10: Cao Quaân Kieät
A11: 55960 | B11: AÙNH SAO TRONG ÑEÂM MÖA Töøng haït möa rôi rôùt cho loøng em buoát giaù, töøng ñeâm nhôù thöông veà anh... | C11: Tröông Leâ Sôn
A12: 55961 | B12: AÁY ÔI AÁY AØ Moãi ngaøy qua anh vu vô… Ngaøy hoâm qua anh naèm mô thaáy em ñoù… | C12: Traàn Anh Khoâi
... A307: 56256 | B307: YEÂU TRONG NOÃI NHÔÙ Vaãn maõi yeâu em muoân ñôøi duø ngöôøi ñaõ xa... | C307: Phaïm Vieät Hoaøng

Sheet Sheet1
A1: 55950 | B1: ANH CẦN EM
A2: Anh ngồi suy nghĩ về chuyện tình đôi ta sẽ đi về đâu em ơi… | B2: Khắc Việt
A3: 55951 | B3: ANH KHÁC HAY EM KHÁC
A4: Có phải em hết yêu anh rồi em hãy nói đi người ơi… | B4: Khắc Việt
A5: 55952 | B5: ANH KHÔNG LÀ GIẤC MƠ
A6: Khi em quen anh bao âu lo tan biến trong cuộc đời… | B6: Phạm Hoàng Long
A7: 55953 | B7: ANH MƠ
A8: Sáng nay anh được gặp em, lòng anh hạnh phúc thật nhiều... | B8: Anh Khang
A9: 55954 | B9: ANH MUỐN NÓI
A10: Trong tình yêu người đời hay nói nhau rằng... | B10: Minh Vy
A11: 55955 | B11: ANH QUÊN BẢN THÂN ANH LÀ AI
A12: Ngày bên nhau anh mong phút giây êm đềm... | B12: Hà Hải Đăng
A13: 55956 | B13: ANH TRÔI VỀ EM
A14: Mưa lại rơi ngẩn ngơ góc phố, em đi về mưa rơi ngày xưa... | B14: Huy Tuấn
A15: 55957 | B15: ANH VẪN THỨ THA
A16: Ngày tháng trống vắng vẫn rơi bên đời anh khi em đi mất rồi... | B16: Đỗ Đình Phúc
A17: 55958 | B17: ÁNH MẮT ĐẦU TIÊN
A18: Đêm qua lang thang bước trên dọc nơi hành lang phố quen… | B18: Nguyễn Hồng Thuận
A19: 55959 | B19: ÁNH SAO BĂNG CÔ ĐƠN
A20: Ngồi trong đêm anh ngắm sao nghe lòng bao xót xa... | B20: Cao Quân Kiệt
A21: 55960 | B21: ÁNH SAO TRONG ĐÊM MƯA
A22: Từng hạt mưa rơi rớt cho lòng em buốt giá, từng đêm nhớ thương về anh... | B22: Trương Lê Sơn
A23: 55961 | B23: ẤY ƠI ẤY À
A24: Mỗi ngày qua anh vu vơ… Ngày hôm qua anh nằm mơ thấy em đó… | B24: Trần Anh Khôi
A25: 55962 | B25: BA BÀ ĐI BÁN LỢN CON
A26: Ba bà đi bán lợn con, bán đi chẳng được lon ton chạy về... | B26: Lê Cao Phan
A27: 55963 | B27: BA HẠT DẺ DÀNH CHO LỌ LEM
A28: Ba hạt dẻ nhỏ dành cho Lọ Lem trong câu chuyện xưa… | B28: Phan Thanh Trường
A29: 55964 | B29: BA NĂM YÊU EM ÂM THẦM
A30: Đêm đêm mình ta riêng bóng ưu tư một nỗi hoài mong... | B30: Tô Thanh Sơn
A31: 55965 | B31: BÀI CA VĨNH LINH
A32: Ngó bên tê Trường Sơn một dải, nghe bên ni sóng vỗ Cửa Tùng... | B32: Hoàng Vân
A33: 55966 | B33: BÀI HÁT BUỒN
A34: Bàn tay bàn tay bé nhỏ mùa đông tìm đâu hơi ấm... | B34: Dương Thụ
A35: 55967 | B35: BAO GIỜ TA GẶP LẠI
A36: Tưởng rằng anh đến đây như chim trời mỏi cánh… | B36: Trịnh Lâm Ngân
A37: 55968 | B37: BAO LA TÌNH NGƯỜI
A38: Cuộc đời hôm nay còn lắm thương đau... | B38: Vy Nhật Tảo
A39: 55969 | B39: BAY
A40: Cho bao nhiêu bước chân đêm nay rung lên nhẹ nhàng... | B40: Nguyễn Hải Phong
A41: 55970 | B41: BAY LÊN NHỮNG GIẤC MƠ
A42: Đôi khi lòng ta bỗng thấy buồn phiền, đôi khi thời gian khiến ta mỏi mệt... | B42: Nguyễn Hồng Thuận
A43: 55971 | B43: BẮC HÀ YÊU THƯƠNG
A44: Mời anh đến thăm quê em chỉ một lần mãi không quên đất Bắc Hà... | B44: Thuận Yến
A45: 55972 | B45: BẮT SÓNG CẢM XÚC
A46: Tìm lại nụ cười đôi khi bỏ quên trong ta những mệt nhoài… | B46: Wanbi Tuấn Anh
A47: 55973 | B47: BẤT CHỢT
A48: Lòng sao nhớ thương vô cùng, phố hoa thênh thang từ khi vắng nhau... | B48: Nguyễn Ngọc Thiện
A49: 55974 | B49: BẬU BÌNH BÁT
A50: Bình bát ơ buồn ai tan tác ơ, lỡ mối duyên lòng buồn người bỏ xứ xa quê… | B50: Sơn Hạ
A51: 55975 | B51: BẬU CÒN THƯƠNG GIẬU MỒNG TƠI
A52: Chiều buồn bên giậu mồng tơi, nghe lòng thương nhớ cuộc tình đôi ta... | B52: Nguyễn Ngọc Thạch
A53: 55976 | B53: BÊN BỜ AO NHÀ MÌNH
A54: Bên bờ ao nhà mình con chuồn chuồn vẫn đậu cành bèo tây… | B54: Lê Minh Sơn
A55: 55977 | B55: BÊN ĐỜI LẺ LOI
A56: Ngày em bước ra đi phương nào, nhiều đêm vắng cô đơn mong chờ... | B56: Hồ Trung Dũng
A57: 55978 | B57: BIỂN NGHÌN THU Ở LẠI
A58: Biển đánh bờ xôn xao bờ đánh biển, đừng đánh nhau ơi biển sẽ tàn phai... | B58: Trịnh Công Sơn
A59: 55979 | B59: BIẾT PHẢI LÀM SAO
A60: Giữa hai người đường tình như tơ rối, tìm đâu thấy lối ra tình yêu mình... | B60: Trung Quân
A61: 55980 | B61: BÓNG HÌNH
A62: Anh sẽ luôn chờ bên góc phố mong thấy em từng ngày đi qua... | B62: Sỹ Luân
A63: 55981 | B63: BÓNG MÁT ĐỜI CON
A64: Mẹ cha ơi, những bước chúng con bước trên đường đời... | B64: Mai Thanh
A65: 55982 | B65: BÓNG TRĂNG ĐANG DẦN TRÔI
A66: Một mình trong căn phòng vắng ngồi nhớ mong bóng hình em... | B66: Duy Mạnh
A67: 55983 | B67: BỖNG
A68: Bỗng hôm nào chợt tôi thấy tôi cười một mình... | B68: Sa Huỳnh
A69: 55984 | B69: BỞI THẾ ANH YÊU EM (BỞI THẾ TA YÊU NHAU)
A70: Có nỗi nhớ nào bằng nỗi nhớ em, có nhan sắc nào bằng tâm hồn em... | B70: Vũ Quốc Việt
A71: 55985 | B71: BƯỚC CHÂN PHÙ DU
A72: Nếu biết trước cuộc tình mình không như mơ... | B72: Quang Mẫn
A73: 55986 | B73: CẢM ƠN TÌNH YÊU CỦA EM
A74: Thôi em đi, thôi em đi em về đi với người, để cho ngày trôi qua… | B74: Nguyễn Hồng Thuận
A75: 55987 | B75: CÁNH BUỒM ĐỎ THẮM
A76: Ngỡ ngàng phút giây em đến ngập chiếm hồn anh... | B76: Đỗ Bảo
A77: 55988 | B77: CÁNH CÒ QUÊ
A78: Quê mẹ ơi sao đồng xanh thế, cánh cò ơi sao lả lơi thế... | B78: Phạm Lê Quân
A79: 55989 | B79: CĂN PHÒNG LẠNH
A80: Mỗi khi đông về anh lại nhớ những tháng ngày đã qua… | B80: Lê Bá Vĩnh
A81: 55990 | B81: CẦN MỘT CHÚT VÔ TÂM
A82: Người tôi yêu bao nhiêu lâu nay sao phũ phàng quay lưng quá nhanh... | B82: Bằng Cường
A83: 55991 | B83: CHA VÀ CON
A84: Có một bài ca cha đã viết khi chưa đặt tên con… | B84: Trần Lập
A85: 55992 | B85: CHỈ ANH HIỂU EM
A86: Anh nhớ những ngày mà mình còn bên cạnh nhau thật đẹp biết mấy... | B86: Khắc Việt
A87: 55993 | B87: CHỈ LÀ GIẤC MƠ
A88: Có những nỗi đau nhẹ nhàng tìm đến, những vết thương chưa phai... | B88: Bảo Thạch
A89: 55994 | B89: CHỈ MÌNH EM THÔI
A90: Người yêu hỡi có nhớ anh thường nói chỉ có em mà thôi… | B90: Nhạc: Tùng Châu Thơ: Trường Huy
A91: 55995 | B91: CHỈ TẠI VÔ TÌNH
A92: Một mình lặng ngắm ánh nắng rơi vương ngoài biển xa… | B92: Quốc Bình - Hồng Khanh
A93: 55996 | B93: CHỈ THẾ THÔI
A94: Con sông buông lơi êm trôi mênh mang, sông in ánh trăng... | B94: Đông Nhi
A95: 55997 | B95: CHỈ TÌNH YÊU ANH MẤT
A96: Tưởng rằng mây sẽ không trôi, tưởng rằng sông sẽ không vơi... | B96: Quốc Bảo
A97: 55998 | B97: CHỈ VÌ ANH QUÁ YÊU EM
A98: Anh không thể bên em nữa sao, từ ngày hôm qua…. | B98: Phạm Việt Hoàng
A99: 55999 | B99: CHỈ YÊU MÌNH ANH (CHỈ VÌ YÊU ANH)
A100: Đừng nói xa cách anh nhé làm cho lòng em xót xa, còn đây nhung nhớ... | B100: Quốc Vượng
...

Sheet Sheet2
A1: =Sheet1!A1 -> 55950 | B1: =Sheet1!B1 -> ANH CẦN EM | C1: =Sheet1!A2 -> Anh ngồi suy nghĩ về chuyện tình đôi ta sẽ đi về đâu em ơi… | D1: =Sheet1!B2 -> Khắc Việt
A2: =Sheet1!A3 -> 55951 | B2: =Sheet1!B3 -> ANH KHÁC HAY EM KHÁC | C2: =Sheet1!A4 -> Có phải em hết yêu anh rồi em hãy nói đi người ơi… | D2: =Sheet1!B4 -> Khắc Việt
A3: =Sheet1!A5 -> 55952 | B3: =Sheet1!B5 -> ANH KHÔNG LÀ GIẤC MƠ | C3: =Sheet1!A6 -> Khi em quen anh bao âu lo tan biến trong cuộc đời… | D3: =Sheet1!B6 -> Phạm Hoàng Long
A4: =Sheet1!A7 -> 55953 | B4: =Sheet1!B7 -> ANH MƠ | C4: =Sheet1!A8 -> Sáng nay anh được gặp em, lòng anh hạnh phúc thật nhiều... | D4: =Sheet1!B8 -> Anh Khang
A5: =Sheet1!A9 -> 55954 | B5: =Sheet1!B9 -> ANH MUỐN NÓI | C5: =Sheet1!A10 -> Trong tình yêu người đời hay nói nhau rằng... | D5: =Sheet1!B10 -> Minh Vy
A6: =Sheet1!A11 -> 55955 | B6: =Sheet1!B11 -> ANH QUÊN BẢN THÂN ANH LÀ AI | C6: =Sheet1!A12 -> Ngày bên nhau anh mong phút giây êm đềm... | D6: =Sheet1!B12 -> Hà Hải Đăng
A7: =Sheet1!A13 -> 55956 | B7: =Sheet1!B13 -> ANH TRÔI VỀ EM | C7: =Sheet1!A14 -> Mưa lại rơi ngẩn ngơ góc phố, em đi về mưa rơi ngày xưa... | D7: =Sheet1!B14 -> Huy Tuấn
A8: =Sheet1!A15 -> 55957 | B8: =Sheet1!B15 -> ANH VẪN THỨ THA | C8: =Sheet1!A16 -> Ngày tháng trống vắng vẫn rơi bên đời anh khi em đi mất rồi... | D8: =Sheet1!B16 -> Đỗ Đình Phúc
A9: =Sheet1!A9 -> 55954 | B9: =Sheet1!B9 -> ANH MUỐN NÓI | C9: =Sheet1!A10 -> Trong tình yêu người đời hay nói nhau rằng... | D9: =Sheet1!B10 -> Minh Vy
A10: =Sheet1!A11 -> 55955 | B10: =Sheet1!B11 -> ANH QUÊN BẢN THÂN ANH LÀ AI | C10: =Sheet1!A12 -> Ngày bên nhau anh mong phút giây êm đềm... | D10: =Sheet1!B12 -> Hà Hải Đăng
A11: =Sheet1!A13 -> 55956 | B11: =Sheet1!B13 -> ANH TRÔI VỀ EM | C11: =Sheet1!A14 -> Mưa lại rơi ngẩn ngơ góc phố, em đi về mưa rơi ngày xưa... | D11: =Sheet1!B14 -> Huy Tuấn
A12: =Sheet1!A15 -> 55957 | B12: =Sheet1!B15 -> ANH VẪN THỨ THA | C12: =Sheet1!A16 -> Ngày tháng trống vắng vẫn rơi bên đời anh khi em đi mất rồi... | D12: =Sheet1!B16 -> Đỗ Đình Phúc
A13: =Sheet1!A17 -> 55958 | B13: =Sheet1!B17 -> ÁNH MẮT ĐẦU TIÊN | C13: =Sheet1!A18 -> Đêm qua lang thang bước trên dọc nơi hành lang phố quen… | D13: =Sheet1!B18 -> Nguyễn Hồng Thuận
A14: =Sheet1!A19 -> 55959 | B14: =Sheet1!B19 -> ÁNH SAO BĂNG CÔ ĐƠN | C14: =Sheet1!A20 -> Ngồi trong đêm anh ngắm sao nghe lòng bao xót xa... | D14: =Sheet1!B20 -> Cao Quân Kiệt
A15: =Sheet1!A21 -> 55960 | B15: =Sheet1!B21 -> ÁNH SAO TRONG ĐÊM MƯA | C15: =Sheet1!A22 -> Từng hạt mưa rơi rớt cho lòng em buốt giá, từng đêm nhớ thương về anh... | D15: =Sheet1!B22 -> Trương Lê Sơn
A16: =Sheet1!A19 -> 55959 | B16: =Sheet1!B19 -> ÁNH SAO BĂNG CÔ ĐƠN | C16: =Sheet1!A20 -> Ngồi trong đêm anh ngắm sao nghe lòng bao xót xa... | D16: =Sheet1!B20 -> Cao Quân Kiệt
A17: =Sheet1!A21 -> 55960 | B17: =Sheet1!B21 -> ÁNH SAO TRONG ĐÊM MƯA | C17: =Sheet1!A22 -> Từng hạt mưa rơi rớt cho lòng em buốt giá, từng đêm nhớ thương về anh... | D17: =Sheet1!B22 -> Trương Lê Sơn
A18: =Sheet1!A23 -> 55961 | B18: =Sheet1!B23 -> ẤY ƠI ẤY À | C18: =Sheet1!A24 -> Mỗi ngày qua anh vu vơ… Ngày hôm qua anh nằm mơ thấy em đó… | D18: =Sheet1!B24 -> Trần Anh Khôi
A19: =Sheet1!A25 -> 55962 | B19: =Sheet1!B25 -> BA BÀ ĐI BÁN LỢN CON | C19: =Sheet1!A26 -> Ba bà đi bán lợn con, bán đi chẳng được lon ton chạy về... | D19: =Sheet1!B26 -> Lê Cao Phan
A20: =Sheet1!A27 -> 55963 | B20: =Sheet1!B27 -> BA HẠT DẺ DÀNH CHO LỌ LEM | C20: =Sheet1!A28 -> Ba hạt dẻ nhỏ dành cho Lọ Lem trong câu chuyện xưa… | D20: =Sheet1!B28 -> Phan Thanh Trường
A21: =Sheet1!A21 -> 55960 | B21: =Sheet1!B21 -> ÁNH SAO TRONG ĐÊM MƯA | C21: =Sheet1!A22 -> Từng hạt mưa rơi rớt cho lòng em buốt giá, từng đêm nhớ thương về anh... | D21: =Sheet1!B22 -> Trương Lê Sơn
A22: =Sheet1!A23 -> 55961 | B22: =Sheet1!B23 -> ẤY ƠI ẤY À | C22: =Sheet1!A24 -> Mỗi ngày qua anh vu vơ… Ngày hôm qua anh nằm mơ thấy em đó… | D22: =Sheet1!B24 -> Trần Anh Khôi
A23: =Sheet1!A25 -> 55962 | B23: =Sheet1!B25 -> BA BÀ ĐI BÁN LỢN CON | C23: =Sheet1!A26 -> Ba bà đi bán lợn con, bán đi chẳng được lon ton chạy về... | D23: =Sheet1!B26 -> Lê Cao Phan
A24: =Sheet1!A27 -> 55963 | B24: =Sheet1!B27 -> BA HẠT DẺ DÀNH CHO LỌ LEM | C24: =Sheet1!A28 -> Ba hạt dẻ nhỏ dành cho Lọ Lem trong câu chuyện xưa… | D24: =Sheet1!B28 -> Phan Thanh Trường
A25: =Sheet1!A29 -> 55964 | B25: =Sheet1!B29 -> BA NĂM YÊU EM ÂM THẦM | C25: =Sheet1!A30 -> Đêm đêm mình ta riêng bóng ưu tư một nỗi hoài mong... | D25: =Sheet1!B30 -> Tô Thanh Sơn
A26: =Sheet1!A31 -> 55965 | B26: =Sheet1!B31 -> BÀI CA VĨNH LINH | C26: =Sheet1!A32 -> Ngó bên tê Trường Sơn một dải, nghe bên ni sóng vỗ Cửa Tùng... | D26: =Sheet1!B32 -> Hoàng Vân
A27: =Sheet1!A33 -> 55966 | B27: =Sheet1!B33 -> BÀI HÁT BUỒN | C27: =Sheet1!A34 -> Bàn tay bàn tay bé nhỏ mùa đông tìm đâu hơi ấm... | D27: =Sheet1!B34 -> Dương Thụ
A28: =Sheet1!A35 -> 55967 | B28: =Sheet1!B35 -> BAO GIỜ TA GẶP LẠI | C28: =Sheet1!A36 -> Tưởng rằng anh đến đây như chim trời mỏi cánh… | D28: =Sheet1!B36 -> Trịnh Lâm Ngân
A29: =Sheet1!A29 -> 55964 | B29: =Sheet1!B29 -> BA NĂM YÊU EM ÂM THẦM | C29: =Sheet1!A30 -> Đêm đêm mình ta riêng bóng ưu tư một nỗi hoài mong... | D29: =Sheet1!B30 -> Tô Thanh Sơn
A30: =Sheet1!A31 -> 55965 | B30: =Sheet1!B31 -> BÀI CA VĨNH LINH | C30: =Sheet1!A32 -> Ngó bên tê Trường Sơn một dải, nghe bên ni sóng vỗ Cửa Tùng... | D30: =Sheet1!B32 -> Hoàng Vân
A31: =Sheet1!A33 -> 55966 | B31: =Sheet1!B33 -> BÀI HÁT BUỒN | C31: =Sheet1!A34 -> Bàn tay bàn tay bé nhỏ mùa đông tìm đâu hơi ấm... | D31: =Sheet1!B34 -> Dương Thụ
A32: =Sheet1!A35 -> 55967 | B32: =Sheet1!B35 -> BAO GIỜ TA GẶP LẠI | C32: =Sheet1!A36 -> Tưởng rằng anh đến đây như chim trời mỏi cánh… | D32: =Sheet1!B36 -> Trịnh Lâm Ngân
A33: =Sheet1!A33 -> 55966 | B33: =Sheet1!B33 -> BÀI HÁT BUỒN | C33: =Sheet1!A34 -> Bàn tay bàn tay bé nhỏ mùa đông tìm đâu hơi ấm... | D33: =Sheet1!B34 -> Dương Thụ
A34: =Sheet1!A35 -> 55967 | B34: =Sheet1!B35 -> BAO GIỜ TA GẶP LẠI | C34: =Sheet1!A36 -> Tưởng rằng anh đến đây như chim trời mỏi cánh… | D34: =Sheet1!B36 -> Trịnh Lâm Ngân
A35: =Sheet1!A37 -> 55968 | B35: =Sheet1!B37 -> BAO LA TÌNH NGƯỜI | C35: =Sheet1!A38 -> Cuộc đời hôm nay còn lắm thương đau... | D35: =Sheet1!B38 -> Vy Nhật Tảo
A36: =Sheet1!A39 -> 55969 | B36: =Sheet1!B39 -> BAY | C36: =Sheet1!A40 -> Cho bao nhiêu bước chân đêm nay rung lên nhẹ nhàng... | D36: =Sheet1!B40 -> Nguyễn Hải Phong
A37: =Sheet1!A41 -> 55970 | B37: =Sheet1!B41 -> BAY LÊN NHỮNG GIẤC MƠ | C37: =Sheet1!A42 -> Đôi khi lòng ta bỗng thấy buồn phiền, đôi khi thời gian khiến ta mỏi mệt... | D37: =Sheet1!B42 -> Nguyễn Hồng Thuận
A38: =Sheet1!A43 -> 55971 | B38: =Sheet1!B43 -> BẮC HÀ YÊU THƯƠNG | C38: =Sheet1!A44 -> Mời anh đến thăm quê em chỉ một lần mãi không quên đất Bắc Hà... | D38: =Sheet1!B44 -> Thuận Yến
A39: =Sheet1!A45 -> 55972 | B39: =Sheet1!B45 -> BẮT SÓNG CẢM XÚC | C39: =Sheet1!A46 -> Tìm lại nụ cười đôi khi bỏ quên trong ta những mệt nhoài… | D39: =Sheet1!B46 -> Wanbi Tuấn Anh
A40: =Sheet1!A47 -> 55973 | B40: =Sheet1!B47 -> BẤT CHỢT | C40: =Sheet1!A48 -> Lòng sao nhớ thương vô cùng, phố hoa thênh thang từ khi vắng nhau... | D40: =Sheet1!B48 -> Nguyễn Ngọc Thiện
A41: =Sheet1!A41 -> 55970 | B41: =Sheet1!B41 -> BAY LÊN NHỮNG GIẤC MƠ | C41: =Sheet1!A42 -> Đôi khi lòng ta bỗng thấy buồn phiền, đôi khi thời gian khiến ta mỏi mệt... | D41: =Sheet1!B42 -> Nguyễn Hồng Thuận
A42: =Sheet1!A43 -> 55971 | B42: =Sheet1!B43 -> BẮC HÀ YÊU THƯƠNG | C42: =Sheet1!A44 -> Mời anh đến thăm quê em chỉ một lần mãi không quên đất Bắc Hà... | D42: =Sheet1!B44 -> Thuận Yến
A43: =Sheet1!A45 -> 55972 | B43: =Sheet1!B45 -> BẮT SÓNG CẢM XÚC | C43: =Sheet1!A46 -> Tìm lại nụ cười đôi khi bỏ quên trong ta những mệt nhoài… | D43: =Sheet1!B46 -> Wanbi Tuấn Anh
A44: =Sheet1!A47 -> 55973 | B44: =Sheet1!B47 -> BẤT CHỢT | C44: =Sheet1!A48 -> Lòng sao nhớ thương vô cùng, phố hoa thênh thang từ khi vắng nhau... | D44: =Sheet1!B48 -> Nguyễn Ngọc Thiện
A45: =Sheet1!A49 -> 55974 | B45: =Sheet1!B49 -> BẬU BÌNH BÁT | C45: =Sheet1!A50 -> Bình bát ơ buồn ai tan tác ơ, lỡ mối duyên lòng buồn người bỏ xứ xa quê… | D45: =Sheet1!B50 -> Sơn Hạ
A46: =Sheet1!A51 -> 55975 | B46: =Sheet1!B51 -> BẬU CÒN THƯƠNG GIẬU MỒNG TƠI | C46: =Sheet1!A52 -> Chiều buồn bên giậu mồng tơi, nghe lòng thương nhớ cuộc tình đôi ta... | D46: =Sheet1!B52 -> Nguyễn Ngọc Thạch
A47: =Sheet1!A53 -> 55976 | B47: =Sheet1!B53 -> BÊN BỜ AO NHÀ MÌNH | C47: =Sheet1!A54 -> Bên bờ ao nhà mình con chuồn chuồn vẫn đậu cành bèo tây… | D47: =Sheet1!B54 -> Lê Minh Sơn
A48: =Sheet1!A51 -> 55975 | B48: =Sheet1!B51 -> BẬU CÒN THƯƠNG GIẬU MỒNG TƠI | C48: =Sheet1!A52 -> Chiều buồn bên giậu mồng tơi, nghe lòng thương nhớ cuộc tình đôi ta... | D48: =Sheet1!B52 -> Nguyễn Ngọc Thạch
A49: =Sheet1!A53 -> 55976 | B49: =Sheet1!B53 -> BÊN BỜ AO NHÀ MÌNH | C49: =Sheet1!A54 -> Bên bờ ao nhà mình con chuồn chuồn vẫn đậu cành bèo tây… | D49: =Sheet1!B54 -> Lê Minh Sơn
A50: =Sheet1!A55 -> 55977 | B50: =Sheet1!B55 -> BÊN ĐỜI LẺ LOI | C50: =Sheet1!A56 -> Ngày em bước ra đi phương nào, nhiều đêm vắng cô đơn mong chờ... | D50: =Sheet1!B56 -> Hồ Trung Dũng
A51: =Sheet1!A57 -> 55978 | B51: =Sheet1!B57 -> BIỂN NGHÌN THU Ở LẠI | C51: =Sheet1!A58 -> Biển đánh bờ xôn xao bờ đánh biển, đừng đánh nhau ơi biển sẽ tàn phai... | D51: =Sheet1!B58 -> Trịnh Công Sơn
A52: =Sheet1!A59 -> 55979 | B52: =Sheet1!B59 -> BIẾT PHẢI LÀM SAO | C52: =Sheet1!A60 -> Giữa hai người đường tình như tơ rối, tìm đâu thấy lối ra tình yêu mình... | D52: =Sheet1!B60 -> Trung Quân
A53: =Sheet1!A53 -> 55976 | B53: =Sheet1!B53 -> BÊN BỜ AO NHÀ MÌNH | C53: =Sheet1!A54 -> Bên bờ ao nhà mình con chuồn chuồn vẫn đậu cành bèo tây… | D53: =Sheet1!B54 -> Lê Minh Sơn
A54: =Sheet1!A55 -> 55977 | B54: =Sheet1!B55 -> BÊN ĐỜI LẺ LOI | C54: =Sheet1!A56 -> Ngày em bước ra đi phương nào, nhiều đêm vắng cô đơn mong chờ... | D54: =Sheet1!B56 -> Hồ Trung Dũng
A55: =Sheet1!A57 -> 55978 | B55: =Sheet1!B57 -> BIỂN NGHÌN THU Ở LẠI | C55: =Sheet1!A58 -> Biển đánh bờ xôn xao bờ đánh biển, đừng đánh nhau ơi biển sẽ tàn phai... | D55: =Sheet1!B58 -> Trịnh Công Sơn
A56: =Sheet1!A59 -> 55979 | B56: =Sheet1!B59 -> BIẾT PHẢI LÀM SAO | C56: =Sheet1!A60 -> Giữa hai người đường tình như tơ rối, tìm đâu thấy lối ra tình yêu mình... | D56: =Sheet1!B60 -> Trung Quân
A57: =Sheet1!A61 -> 55980 | B57: =Sheet1!B61 -> BÓNG HÌNH | C57: =Sheet1!A62 -> Anh sẽ luôn chờ bên góc phố mong thấy em từng ngày đi qua... | D57: =Sheet1!B62 -> Sỹ Luân
A58: =Sheet1!A63 -> 55981 | B58: =Sheet1!B63 -> BÓNG MÁT ĐỜI CON | C58: =Sheet1!A64 -> Mẹ cha ơi, những bước chúng con bước trên đường đời... | D58: =Sheet1!B64 -> Mai Thanh
A59: =Sheet1!A65 -> 55982 | B59: =Sheet1!B65 -> BÓNG TRĂNG ĐANG DẦN TRÔI | C59: =Sheet1!A66 -> Một mình trong căn phòng vắng ngồi nhớ mong bóng hình em... | D59: =Sheet1!B66 -> Duy Mạnh
A60: =Sheet1!A67 -> 55983 | B60: =Sheet1!B67 -> BỖNG | C60: =Sheet1!A68 -> Bỗng hôm nào chợt tôi thấy tôi cười một mình... | D60: =Sheet1!B68 -> Sa Huỳnh
A61: =Sheet1!A61 -> 55980 | B61: =Sheet1!B61 -> BÓNG HÌNH | C61: =Sheet1!A62 -> Anh sẽ luôn chờ bên góc phố mong thấy em từng ngày đi qua... | D61: =Sheet1!B62 -> Sỹ Luân
A62: =Sheet1!A63 -> 55981 | B62: =Sheet1!B63 -> BÓNG MÁT ĐỜI CON | C62: =Sheet1!A64 -> Mẹ cha ơi, những bước chúng con bước trên đường đời... | D62: =Sheet1!B64 -> Mai Thanh
A63: =Sheet1!A65 -> 55982 | B63: =Sheet1!B65 -> BÓNG TRĂNG ĐANG DẦN TRÔI | C63: =Sheet1!A66 -> Một mình trong căn phòng vắng ngồi nhớ mong bóng hình em... | D63: =Sheet1!B66 -> Duy Mạnh
A64: =Sheet1!A67 -> 55983 | B64: =Sheet1!B67 -> BỖNG | C64: =Sheet1!A68 -> Bỗng hôm nào chợt tôi thấy tôi cười một mình... | D64: =Sheet1!B68 -> Sa Huỳnh
A65: =Sheet1!A65 -> 55982 | B65: =Sheet1!B65 -> BÓNG TRĂNG ĐANG DẦN TRÔI | C65: =Sheet1!A66 -> Một mình trong căn phòng vắng ngồi nhớ mong bóng hình em... | D65: =Sheet1!B66 -> Duy Mạnh
A66: =Sheet1!A67 -> 55983 | B66: =Sheet1!B67 -> BỖNG | C66: =Sheet1!A68 -> Bỗng hôm nào chợt tôi thấy tôi cười một mình... | D66: =Sheet1!B68 -> Sa Huỳnh
A67: =Sheet1!A69 -> 55984 | B67: =Sheet1!B69 -> BỞI THẾ ANH YÊU EM (BỞI THẾ TA YÊU NHAU) | C67: =Sheet1!A70 -> Có nỗi nhớ nào bằng nỗi nhớ em, có nhan sắc nào bằng tâm hồn em... | D67: =Sheet1!B70 -> Vũ Quốc Việt
A68: =Sheet1!A71 -> 55985 | B68: =Sheet1!B71 -> BƯỚC CHÂN PHÙ DU | C68: =Sheet1!A72 -> Nếu biết trước cuộc tình mình không như mơ... | D68: =Sheet1!B72 -> Quang Mẫn
A69: =Sheet1!A73 -> 55986 | B69: =Sheet1!B73 -> CẢM ƠN TÌNH YÊU CỦA EM | C69: =Sheet1!A74 -> Thôi em đi, thôi em đi em về đi với người, để cho ngày trôi qua… | D69: =Sheet1!B74 -> Nguyễn Hồng Thuận
A70: =Sheet1!A75 -> 55987 | B70: =Sheet1!B75 -> CÁNH BUỒM ĐỎ THẮM | C70: =Sheet1!A76 -> Ngỡ ngàng phút giây em đến ngập chiếm hồn anh... | D70: =Sheet1!B76 -> Đỗ Bảo
A71: =Sheet1!A77 -> 55988 | B71: =Sheet1!B77 -> CÁNH CÒ QUÊ | C71: =Sheet1!A78 -> Quê mẹ ơi sao đồng xanh thế, cánh cò ơi sao lả lơi thế... | D71: =Sheet1!B78 -> Phạm Lê Quân
A72: =Sheet1!A79 -> 55989 | B72: =Sheet1!B79 -> CĂN PHÒNG LẠNH | C72: =Sheet1!A80 -> Mỗi khi đông về anh lại nhớ những tháng ngày đã qua… | D72: =Sheet1!B80 -> Lê Bá Vĩnh
A73: =Sheet1!A73 -> 55986 | B73: =Sheet1!B73 -> CẢM ƠN TÌNH YÊU CỦA EM | C73: =Sheet1!A74 -> Thôi em đi, thôi em đi em về đi với người, để cho ngày trôi qua… | D73: =Sheet1!B74 -> Nguyễn Hồng Thuận
A74: =Sheet1!A75 -> 55987 | B74: =Sheet1!B75 -> CÁNH BUỒM ĐỎ THẮM | C74: =Sheet1!A76 -> Ngỡ ngàng phút giây em đến ngập chiếm hồn anh... | D74: =Sheet1!B76 -> Đỗ Bảo
A75: =Sheet1!A77 -> 55988 | B75: =Sheet1!B77 -> CÁNH CÒ QUÊ | C75: =Sheet1!A78 -> Quê mẹ ơi sao đồng xanh thế, cánh cò ơi sao lả lơi thế... | D75: =Sheet1!B78 -> Phạm Lê Quân
A76: =Sheet1!A79 -> 55989 | B76: =Sheet1!B79 -> CĂN PHÒNG LẠNH | C76: =Sheet1!A80 -> Mỗi khi đông về anh lại nhớ những tháng ngày đã qua… | D76: =Sheet1!B80 -> Lê Bá Vĩnh
A77: =Sheet1!A81 -> 55990 | B77: =Sheet1!B81 -> CẦN MỘT CHÚT VÔ TÂM | C77: =Sheet1!A82 -> Người tôi yêu bao nhiêu lâu nay sao phũ phàng quay lưng quá nhanh... | D77: =Sheet1!B82 -> Bằng Cường
A78: =Sheet1!A83 -> 55991 | B78: =Sheet1!B83 -> CHA VÀ CON | C78: =Sheet1!A84 -> Có một bài ca cha đã viết khi chưa đặt tên con… | D78: =Sheet1!B84 -> Trần Lập
A79: =Sheet1!A85 -> 55992 | B79: =Sheet1!B85 -> CHỈ ANH HIỂU EM | C79: =Sheet1!A86 -> Anh nhớ những ngày mà mình còn bên cạnh nhau thật đẹp biết mấy... | D79: =Sheet1!B86 -> Khắc Việt
A80: =Sheet1!A83 -> 55991 | B80: =Sheet1!B83 -> CHA VÀ CON | C80: =Sheet1!A84 -> Có một bài ca cha đã viết khi chưa đặt tên con… | D80: =Sheet1!B84 -> Trần Lập
A81: =Sheet1!A85 -> 55992 | B81: =Sheet1!B85 -> CHỈ ANH HIỂU EM | C81: =Sheet1!A86 -> Anh nhớ những ngày mà mình còn bên cạnh nhau thật đẹp biết mấy... | D81: =Sheet1!B86 -> Khắc Việt
A82: =Sheet1!A87 -> 55993 | B82: =Sheet1!B87 -> CHỈ LÀ GIẤC MƠ | C82: =Sheet1!A88 -> Có những nỗi đau nhẹ nhàng tìm đến, những vết thương chưa phai... | D82: =Sheet1!B88 -> Bảo Thạch
A83: =Sheet1!A89 -> 55994 | B83: =Sheet1!B89 -> CHỈ MÌNH EM THÔI | C83: =Sheet1!A90 -> Người yêu hỡi có nhớ anh thường nói chỉ có em mà thôi… | D83: =Sheet1!B90 -> Nhạc: Tùng Châu Thơ: Trường Huy
A84: =Sheet1!A91 -> 55995 | B84: =Sheet1!B91 -> CHỈ TẠI VÔ TÌNH | C84: =Sheet1!A92 -> Một mình lặng ngắm ánh nắng rơi vương ngoài biển xa… | D84: =Sheet1!B92 -> Quốc Bình - Hồng Khanh
A85: =Sheet1!A85 -> 55992 | B85: =Sheet1!B85 -> CHỈ ANH HIỂU EM | C85: =Sheet1!A86 -> Anh nhớ những ngày mà mình còn bên cạnh nhau thật đẹp biết mấy... | D85: =Sheet1!B86 -> Khắc Việt
A86: =Sheet1!A87 -> 55993 | B86: =Sheet1!B87 -> CHỈ LÀ GIẤC MƠ | C86: =Sheet1!A88 -> Có những nỗi đau nhẹ nhàng tìm đến, những vết thương chưa phai... | D86: =Sheet1!B88 -> Bảo Thạch
A87: =Sheet1!A89 -> 55994 | B87: =Sheet1!B89 -> CHỈ MÌNH EM THÔI | C87: =Sheet1!A90 -> Người yêu hỡi có nhớ anh thường nói chỉ có em mà thôi… | D87: =Sheet1!B90 -> Nhạc: Tùng Châu Thơ: Trường Huy
A88: =Sheet1!A91 -> 55995 | B88: =Sheet1!B91 -> CHỈ TẠI VÔ TÌNH | C88: =Sheet1!A92 -> Một mình lặng ngắm ánh nắng rơi vương ngoài biển xa… | D88: =Sheet1!B92 -> Quốc Bình - Hồng Khanh
A89: =Sheet1!A93 -> 55996 | B89: =Sheet1!B93 -> CHỈ THẾ THÔI | C89: =Sheet1!A94 -> Con sông buông lơi êm trôi mênh mang, sông in ánh trăng... | D89: =Sheet1!B94 -> Đông Nhi
A90: =Sheet1!A95 -> 55997 | B90: =Sheet1!B95 -> CHỈ TÌNH YÊU ANH MẤT | C90: =Sheet1!A96 -> Tưởng rằng mây sẽ không trôi, tưởng rằng sông sẽ không vơi... | D90: =Sheet1!B96 -> Quốc Bảo
A91: =Sheet1!A97 -> 55998 | B91: =Sheet1!B97 -> CHỈ VÌ ANH QUÁ YÊU EM | C91: =Sheet1!A98 -> Anh không thể bên em nữa sao, từ ngày hôm qua…. | D91: =Sheet1!B98 -> Phạm Việt Hoàng
A92: =Sheet1!A99 -> 55999 | B92: =Sheet1!B99 -> CHỈ YÊU MÌNH ANH (CHỈ VÌ YÊU ANH) | C92: =Sheet1!A100 -> Đừng nói xa cách anh nhé làm cho lòng em xót xa, còn đây nhung nhớ... | D92: =Sheet1!B100 -> Quốc Vượng
A93: =Sheet1!A93 -> 55996 | B93: =Sheet1!B93 -> CHỈ THẾ THÔI | C93: =Sheet1!A94 -> Con sông buông lơi êm trôi mênh mang, sông in ánh trăng... | D93: =Sheet1!B94 -> Đông Nhi
A94: =Sheet1!A95 -> 55997 | B94: =Sheet1!B95 -> CHỈ TÌNH YÊU ANH MẤT | C94: =Sheet1!A96 -> Tưởng rằng mây sẽ không trôi, tưởng rằng sông sẽ không vơi... | D94: =Sheet1!B96 -> Quốc Bảo
A95: =Sheet1!A97 -> 55998 | B95: =Sheet1!B97 -> CHỈ VÌ ANH QUÁ YÊU EM | C95: =Sheet1!A98 -> Anh không thể bên em nữa sao, từ ngày hôm qua…. | D95: =Sheet1!B98 -> Phạm Việt Hoàng
A96: =Sheet1!A99 -> 55999 | B96: =Sheet1!B99 -> CHỈ YÊU MÌNH ANH (CHỈ VÌ YÊU ANH) | C96: =Sheet1!A100 -> Đừng nói xa cách anh nhé làm cho lòng em xót xa, còn đây nhung nhớ... | D96: =Sheet1!B100 -> Quốc Vượng
A97: =Sheet1!A97 -> 55998 | B97: =Sheet1!B97 -> CHỈ VÌ ANH QUÁ YÊU EM | C97: =Sheet1!A98 -> Anh không thể bên em nữa sao, từ ngày hôm qua…. | D97: =Sheet1!B98 -> Phạm Việt Hoàng
A98: =Sheet1!A99 -> 55999 | B98: =Sheet1!B99 -> CHỈ YÊU MÌNH ANH (CHỈ VÌ YÊU ANH) | C98: =Sheet1!A100 -> Đừng nói xa cách anh nhé làm cho lòng em xót xa, còn đây nhung nhớ... | D98: =Sheet1!B100 -> Quốc Vượng
A99: =Sheet1!A101 -> 56000 | B99: =Sheet1!B101 -> CHIẾC ĐÈN ÔNG SAO | C99: =Sheet1!A102 -> Chiếc đèn ông sao sao năm cánh tươi màu, cán đây rất dài cán cao quá đầu... | D99: =Sheet1!B102 -> Phạm Tuyên
A100: =Sheet1!A103 -> 56001 | B100: =Sheet1!B103 -> CHIẾC LÁ VÔ TÌNH | C100: =Sheet1!A104 -> Mùa thu qua đây qua đây, rơi lại chút nắng lấp lánh... | D100: =Sheet1!B104 -> Bảo Chấn
...
