Workbook

Sheet Table 1
A1: 55950 | B1: ANH CAÀN EM Anh ngoài suy nghó veà chuyeän tình ñoâi ta seõ ñi veà ñaâu em ôi… | C1: Khaéc Vieät
A2: 55951 | B2: ANH KHAÙC HAY EM KHAÙC Coù phaûi em heát yeâu anh roài em haõy noùi ñi ngöôøi ôi… | C2: Khaéc Vieät
A3: 55952 | B3: ANH KHOÂNG LAØ GIAÁC MÔ Khi em quen anh bao aâu lo tan bieán trong cuoäc ñôøi… | C3: Phaïm Hoaøng Long
A4: 55953 | B4: ANH MÔ Saùng nay anh ñöôïc gaëp em, loøng anh haïnh phuùc thaät nhieàu... | C4: Anh Khang
A5: 55954 | B5: ANH MUOÁN NOÙI Trong tình yeâu ngöôøi ñôøi hay noùi nhau raèng... | C5: Minh Vy
A6: 55955 | B6: ANH QUEÂN BAÛN THAÂN ANH LAØ AI Ngaøy beân nhau anh mong phuùt giaây eâm ñeàm... | C6: Haø Haûi Ñaêng
A7: 55956 | B7: ANH TROÂI VEÀ EM Möa laïi rôi ngaån ngô goùc phoá, em ñi veà möa rôi ngaøy xöa... | C7: Huy Tuaán
A8: 55957 | B8: ANH VAÃN THÖÙ THA Ngaøy thaùng troáng vaéng vaãn rôi beân ñôøi anh khi em ñi maát roài... | C8: Ñoã Ñình Phuùc
A9: 55958 | B9: AÙNH MAÉT ÑAÀU TIEÂN Ñeâm qua lang thang böôùc treân doïc nôi haønh lang phoá quen… | C9: Nguyeãn Hoàng Thuaän
A10: 55959 | B10: AÙNH SAO BAÊNG COÂ ÑÔN Ngoài trong ñeâm anh ngaém sao nghe loøng bao xoùt xa... | C10: Cao Quaân Kieät
A11: 55960 | B11: AÙNH SAO TRONG ÑEÂM MÖA Töøng haït möa rôi rôùt cho loøng em buoát giaù, töøng ñeâm nhôù thöông veà anh... | C11: Tröông Leâ Sôn
A12: 55961 | B12: AÁY ÔI AÁY AØ Moãi ngaøy qua anh vu vô… Ngaøy hoâm qua anh naèm mô thaáy em ñoù… | C12: Traàn Anh Khoâi
... A307: 56256 | B307: YEÂU TRONG NOÃI NHÔÙ Vaãn maõi yeâu em muoân ñôøi duø ngöôøi ñaõ xa... | C307: Phaïm Vieät Hoaøng

Sheet Sheet1
A1: 55950 | B1: ANH CẦN EM
A2: Anh ngồi suy nghĩ về chuyện tình đôi ta sẽ đi về đâu em ơi… | B2: Khắc Việt
A3: 55951 | B3: ANH KHÁC HAY EM KHÁC
A4: Có phải em hết yêu anh rồi em hãy nói đi người ơi… | B4: Khắc Việt
A5: 55952 | B5: ANH KHÔNG LÀ GIẤC MƠ
A6: Khi em quen anh bao âu lo tan biến trong cuộc đời… | B6: Phạm Hoàng Long
A7: 55953 | B7: ANH MƠ
A8: Sáng nay anh được gặp em, lòng anh hạnh phúc thật nhiều... | B8: Anh Khang
A9: 55954 | B9: ANH MUỐN NÓI
A10: Trong tình yêu người đời hay nói nhau rằng... | B10: Minh Vy
A11: 55955 | B11: ANH QUÊN BẢN THÂN ANH LÀ AI
A12: Ngày bên nhau anh mong phút giây êm đềm... | B12: Hà Hải Đăng
A13: 55956 | B13: ANH TRÔI VỀ EM
A14: Mưa lại rơi ngẩn ngơ góc phố, em đi về mưa rơi ngày xưa... | B14: Huy Tuấn
A15: 55957 | B15: ANH VẪN THỨ THA
A16: Ngày tháng trống vắng vẫn rơi bên đời anh khi em đi mất rồi... | B16: Đỗ Đình Phúc
A17: 55958 | B17: ÁNH MẮT ĐẦU TIÊN
A18: Đêm qua lang thang bước trên dọc nơi hành lang phố quen… | B18: Nguyễn Hồng Thuận
A19: 55959 | B19: ÁNH SAO BĂNG CÔ ĐƠN
A20: Ngồi trong đêm anh ngắm sao nghe lòng bao xót xa... | B20: Cao Quân Kiệt
A21: 55960 | B21: ÁNH SAO TRONG ĐÊM MƯA
A22: Từng hạt mưa rơi rớt cho lòng em buốt giá, từng đêm nhớ thương về anh... | B22: Trương Lê Sơn
A23: 55961 | B23: ẤY ƠI ẤY À
A24: Mỗi ngày qua anh vu vơ… Ngày hôm qua anh nằm mơ thấy em đó… | B24: Trần Anh Khôi
A25: 55962 | B25: BA BÀ ĐI BÁN LỢN CON
A26: Ba bà đi bán lợn con, bán đi chẳng được lon ton chạy về... | B26: Lê Cao Phan
A27: 55963 | B27: BA HẠT DẺ DÀNH CHO LỌ LEM
A28: Ba hạt dẻ nhỏ dành cho Lọ Lem trong câu chuyện xưa… | B28: Phan Thanh Trường
A29: 55964 | B29: BA NĂM YÊU EM ÂM THẦM
A30: Đêm đêm mình ta riêng bóng ưu tư một nỗi hoài mong... | B30: Tô Thanh Sơn
A31: 55965 | B31: BÀI CA VĨNH LINH
A32: Ngó bên tê Trường Sơn một dải, nghe bên ni sóng vỗ Cửa Tùng... | B32: Hoàng Vân
A33: 55966 | B33: BÀI HÁT BUỒN
A34: Bàn tay bàn tay bé nhỏ mùa đông tìm đâu hơi ấm... | B34: Dương Thụ
A35: 55967 | B35: BAO GIỜ TA GẶP LẠI
A36: Tưởng rằng anh đến đây như chim trời mỏi cánh… | B36: Trịnh Lâm Ngân
A37: 55968 | B37: BAO LA TÌNH NGƯỜI
A38: Cuộc đời hôm nay còn lắm thương đau... | B38: Vy Nhật Tảo
A39: 55969 | B39: BAY
A40: Cho bao nhiêu bước chân đêm nay rung lên nhẹ nhàng... | B40: Nguyễn Hải Phong
...

Sheet Sheet2
A1: =Sheet1!A1 -> 55950 | B1: =Sheet1!B1 -> ANH CẦN EM | C1: =Sheet1!A2 -> Anh ngồi suy nghĩ về chuyện tình đôi ta sẽ đi về đâu em ơi… | D1: =Sheet1!B2 -> Khắc Việt
A2: =Sheet1!A3 -> 55951 | B2: =Sheet1!B3 -> ANH KHÁC HAY EM KHÁC | C2: =Sheet1!A4 -> Có phải em hết yêu anh rồi em hãy nói đi người ơi… | D2: =Sheet1!B4 -> Khắc Việt
A3: =Sheet1!A5 -> 55952 | B3: =Sheet1!B5 -> ANH KHÔNG LÀ GIẤC MƠ | C3: =Sheet1!A6 -> Khi em quen anh bao âu lo tan biến trong cuộc đời… | D3: =Sheet1!B6 -> Phạm Hoàng Long
A4: =Sheet1!A7 -> 55953 | B4: =Sheet1!B7 -> ANH MƠ | C4: =Sheet1!A8 -> Sáng nay anh được gặp em, lòng anh hạnh phúc thật nhiều... | D4: =Sheet1!B8 -> Anh Khang
A5: =Sheet1!A9 -> 55954 | B5: =Sheet1!B9 -> ANH MUỐN NÓI | C5: =Sheet1!A10 -> Trong tình yêu người đời hay nói nhau rằng... | D5: =Sheet1!B10 -> Minh Vy
A6: =Sheet1!A11 -> 55955 | B6: =Sheet1!B11 -> ANH QUÊN BẢN THÂN ANH LÀ AI | C6: =Sheet1!A12 -> Ngày bên nhau anh mong phút giây êm đềm... | D6: =Sheet1!B12 -> Hà Hải Đăng
A7: =Sheet1!A13 -> 55956 | B7: =Sheet1!B13 -> ANH TRÔI VỀ EM | C7: =Sheet1!A14 -> Mưa lại rơi ngẩn ngơ góc phố, em đi về mưa rơi ngày xưa... | D7: =Sheet1!B14 -> Huy Tuấn
A8: =Sheet1!A15 -> 55957 | B8: =Sheet1!B15 -> ANH VẪN THỨ THA | C8: =Sheet1!A16 -> Ngày tháng trống vắng vẫn rơi bên đời anh khi em đi mất rồi... | D8: =Sheet1!B16 -> Đỗ Đình Phúc
A9: =Sheet1!A9 -> 55954 | B9: =Sheet1!B9 -> ANH MUỐN NÓI | C9: =Sheet1!A10 -> Trong tình yêu người đời hay nói nhau rằng... | D9: =Sheet1!B10 -> Minh Vy
A10: =Sheet1!A11 -> 55955 | B10: =Sheet1!B11 -> ANH QUÊN BẢN THÂN ANH LÀ AI | C10: =Sheet1!A12 -> Ngày bên nhau anh mong phút giây êm đềm... | D10: =Sheet1!B12 -> Hà Hải Đăng
A11: =Sheet1!A13 -> 55956 | B11: =Sheet1!B13 -> ANH TRÔI VỀ EM | C11: =Sheet1!A14 -> Mưa lại rơi ngẩn ngơ góc phố, em đi về mưa rơi ngày xưa... | D11: =Sheet1!B14 -> Huy Tuấn
A12: =Sheet1!A15 -> 55957 | B12: =Sheet1!B15 -> ANH VẪN THỨ THA | C12: =Sheet1!A16 -> Ngày tháng trống vắng vẫn rơi bên đời anh khi em đi mất rồi... | D12: =Sheet1!B16 -> Đỗ Đình Phúc
A13: =Sheet1!A17 -> 55958 | B13: =Sheet1!B17 -> ÁNH MẮT ĐẦU TIÊN | C13: =Sheet1!A18 -> Đêm qua lang thang bước trên dọc nơi hành lang phố quen… | D13: =Sheet1!B18 -> Nguyễn Hồng Thuận
A14: =Sheet1!A19 -> 55959 | B14: =Sheet1!B19 -> ÁNH SAO BĂNG CÔ ĐƠN | C14: =Sheet1!A20 -> Ngồi trong đêm anh ngắm sao nghe lòng bao xót xa... | D14: =Sheet1!B20 -> Cao Quân Kiệt
A15: =Sheet1!A21 -> 55960 | B15: =Sheet1!B21 -> ÁNH SAO TRONG ĐÊM MƯA | C15: =Sheet1!A22 -> Từng hạt mưa rơi rớt cho lòng em buốt giá, từng đêm nhớ thương về anh... | D15: =Sheet1!B22 -> Trương Lê Sơn
A16: =Sheet1!A19 -> 55959 | B16: =Sheet1!B19 -> ÁNH SAO BĂNG CÔ ĐƠN | C16: =Sheet1!A20 -> Ngồi trong đêm anh ngắm sao nghe lòng bao xót xa... | D16: =Sheet1!B20 -> Cao Quân Kiệt
A17: =Sheet1!A21 -> 55960 | B17: =Sheet1!B21 -> ÁNH SAO TRONG ĐÊM MƯA | C17: =Sheet1!A22 -> Từng hạt mưa rơi rớt cho lòng em buốt giá, từng đêm nhớ thương về anh... | D17: =Sheet1!B22 -> Trương Lê Sơn
A18: =Sheet1!A23 -> 55961 | B18: =Sheet1!B23 -> ẤY ƠI ẤY À | C18: =Sheet1!A24 -> Mỗi ngày qua anh vu vơ… Ngày hôm qua anh nằm mơ thấy em đó… | D18: =Sheet1!B24 -> Trần Anh Khôi
A19: =Sheet1!A25 -> 55962 | B19: =Sheet1!B25 -> BA BÀ ĐI BÁN LỢN CON | C19: =Sheet1!A26 -> Ba bà đi bán lợn con, bán đi chẳng được lon ton chạy về... | D19: =Sheet1!B26 -> Lê Cao Phan
A20: =Sheet1!A27 -> 55963 | B20: =Sheet1!B27 -> BA HẠT DẺ DÀNH CHO LỌ LEM | C20: =Sheet1!A28 -> Ba hạt dẻ nhỏ dành cho Lọ Lem trong câu chuyện xưa… | D20: =Sheet1!B28 -> Phan Thanh Trường
A21: =Sheet1!A21 -> 55960 | B21: =Sheet1!B21 -> ÁNH SAO TRONG ĐÊM MƯA | C21: =Sheet1!A22 -> Từng hạt mưa rơi rớt cho lòng em buốt giá, từng đêm nhớ thương về anh... | D21: =Sheet1!B22 -> Trương Lê Sơn
A22: =Sheet1!A23 -> 55961 | B22: =Sheet1!B23 -> ẤY ƠI ẤY À | C22: =Sheet1!A24 -> Mỗi ngày qua anh vu vơ… Ngày hôm qua anh nằm mơ thấy em đó… | D22: =Sheet1!B24 -> Trần Anh Khôi
A23: =Sheet1!A25 -> 55962 | B23: =Sheet1!B25 -> BA BÀ ĐI BÁN LỢN CON | C23: =Sheet1!A26 -> Ba bà đi bán lợn con, bán đi chẳng được lon ton chạy về... | D23: =Sheet1!B26 -> Lê Cao Phan
A24: =Sheet1!A27 -> 55963 | B24: =Sheet1!B27 -> BA HẠT DẺ DÀNH CHO LỌ LEM | C24: =Sheet1!A28 -> Ba hạt dẻ nhỏ dành cho Lọ Lem trong câu chuyện xưa… | D24: =Sheet1!B28 -> Phan Thanh Trường
A25: =Sheet1!A29 -> 55964 | B25: =Sheet1!B29 -> BA NĂM YÊU EM ÂM THẦM | C25: =Sheet1!A30 -> Đêm đêm mình ta riêng bóng ưu tư một nỗi hoài mong... | D25: =Sheet1!B30 -> Tô Thanh Sơn
A26: =Sheet1!A31 -> 55965 | B26: =Sheet1!B31 -> BÀI CA VĨNH LINH | C26: =Sheet1!A32 -> Ngó bên tê Trường Sơn một dải, nghe bên ni sóng vỗ Cửa Tùng... | D26: =Sheet1!B32 -> Hoàng Vân
A27: =Sheet1!A33 -> 55966 | B27: =Sheet1!B33 -> BÀI HÁT BUỒN | C27: =Sheet1!A34 -> Bàn tay bàn tay bé nhỏ mùa đông tìm đâu hơi ấm... | D27: =Sheet1!B34 -> Dương Thụ
A28: =Sheet1!A35 -> 55967 | B28: =Sheet1!B35 -> BAO GIỜ TA GẶP LẠI | C28: =Sheet1!A36 -> Tưởng rằng anh đến đây như chim trời mỏi cánh… | D28: =Sheet1!B36 -> Trịnh Lâm Ngân
A29: =Sheet1!A29 -> 55964 | B29: =Sheet1!B29 -> BA NĂM YÊU EM ÂM THẦM | C29: =Sheet1!A30 -> Đêm đêm mình ta riêng bóng ưu tư một nỗi hoài mong... | D29: =Sheet1!B30 -> Tô Thanh Sơn
A30: =Sheet1!A31 -> 55965 | B30: =Sheet1!B31 -> BÀI CA VĨNH LINH | C30: =Sheet1!A32 -> Ngó bên tê Trường Sơn một dải, nghe bên ni sóng vỗ Cửa Tùng... | D30: =Sheet1!B32 -> Hoàng Vân
A31: =Sheet1!A33 -> 55966 | B31: =Sheet1!B33 -> BÀI HÁT BUỒN | C31: =Sheet1!A34 -> Bàn tay bàn tay bé nhỏ mùa đông tìm đâu hơi ấm... | D31: =Sheet1!B34 -> Dương Thụ
A32: =Sheet1!A35 -> 55967 | B32: =Sheet1!B35 -> BAO GIỜ TA GẶP LẠI | C32: =Sheet1!A36 -> Tưởng rằng anh đến đây như chim trời mỏi cánh… | D32: =Sheet1!B36 -> Trịnh Lâm Ngân
A33: =Sheet1!A33 -> 55966 | B33: =Sheet1!B33 -> BÀI HÁT BUỒN | C33: =Sheet1!A34 -> Bàn tay bàn tay bé nhỏ mùa đông tìm đâu hơi ấm... | D33: =Sheet1!B34 -> Dương Thụ
A34: =Sheet1!A35 -> 55967 | B34: =Sheet1!B35 -> BAO GIỜ TA GẶP LẠI | C34: =Sheet1!A36 -> Tưởng rằng anh đến đây như chim trời mỏi cánh… | D34: =Sheet1!B36 -> Trịnh Lâm Ngân
A35: =Sheet1!A37 -> 55968 | B35: =Sheet1!B37 -> BAO LA TÌNH NGƯỜI | C35: =Sheet1!A38 -> Cuộc đời hôm nay còn lắm thương đau... | D35: =Sheet1!B38 -> Vy Nhật Tảo
A36: =Sheet1!A39 -> 55969 | B36: =Sheet1!B39 -> BAY | C36: =Sheet1!A40 -> Cho bao nhiêu bước chân đêm nay rung lên nhẹ nhàng... | D36: =Sheet1!B40 -> Nguyễn Hải Phong
A37: =Sheet1!A41 -> 55970 | B37: =Sheet1!B41 -> BAY LÊN NHỮNG GIẤC MƠ | C37: =Sheet1!A42 -> Đôi khi lòng ta bỗng thấy buồn phiền, đôi khi thời gian khiến ta mỏi mệt... | D37: =Sheet1!B42 -> Nguyễn Hồng Thuận
A38: =Sheet1!A43 -> 55971 | B38: =Sheet1!B43 -> BẮC HÀ YÊU THƯƠNG | C38: =Sheet1!A44 -> Mời anh đến thăm quê em chỉ một lần mãi không quên đất Bắc Hà... | D38: =Sheet1!B44 -> Thuận Yến
A39: =Sheet1!A45 -> 55972 | B39: =Sheet1!B45 -> BẮT SÓNG CẢM XÚC | C39: =Sheet1!A46 -> Tìm lại nụ cười đôi khi bỏ quên trong ta những mệt nhoài… | D39: =Sheet1!B46 -> Wanbi Tuấn Anh
A40: =Sheet1!A47 -> 55973 | B40: =Sheet1!B47 -> BẤT CHỢT | C40: =Sheet1!A48 -> Lòng sao nhớ thương vô cùng, phố hoa thênh thang từ khi vắng nhau... | D40: =Sheet1!B48 -> Nguyễn Ngọc Thiện
...
